BEGIN:VCALENDAR
VERSION:2.0
PRODID:-//ChamberMaster//Event Calendar 2.0//EN
METHOD:PUBLISH
X-PUBLISHED-TTL:P3D
REFRESH-INTERVAL:P3D
CALSCALE:GREGORIAN
BEGIN:VEVENT
DTSTART:20101028T040000Z
DTEND:20101028T040000Z
X-MICROSOFT-CDO-ALLDAYEVENT:FALSE
SUMMARY:Courtesy Connector Meeting
DESCRIPTION:Monthly meeting of the courtesy connector welcoming group.
X-ALT-DESC;FMTTYPE=text/html:<DIV>Monthly meeting of the courtesy connector welcoming&nbsp\;group. </DIV>
LOCATION:Newburyport Chamber Office
UID:e.1189.1632
SEQUENCE:3
DTSTAMP:20260420T160356Z
URL:https://business.newburyportchamber.org/events/details/courtesy-connector-meeting-10-28-2010-1632
END:VEVENT

END:VCALENDAR
