BEGIN:VCALENDAR
VERSION:2.0
PRODID:-//ChamberMaster//Event Calendar 2.0//EN
METHOD:PUBLISH
X-PUBLISHED-TTL:P3D
REFRESH-INTERVAL:P3D
CALSCALE:GREGORIAN
BEGIN:VEVENT
DTSTART:20111025T230000Z
DTEND:20111026T003000Z
X-MICROSOFT-CDO-ALLDAYEVENT:FALSE
SUMMARY:Councilor At Large Debate
DESCRIPTION:The Greater Newburyport Chamber of Commerce and Industry\, Newburyport Today\, Port Media and WNBP will host and coordinate an at large councilor debate on Tuesday\, October 25\, 2011 from 7 - 8:30 PM at the Nock Middle School Auditorium. This event will be aired live on cable access and WNBP.
X-ALT-DESC;FMTTYPE=text/html:The Greater Newburyport Chamber of Commerce and Industry\, Newburyport Today\, Port Media and WNBP will host and coordinate an at large councilor debate on Tuesday\, October 25\, 2011 from 7 - 8:30 PM at the Nock Middle School Auditorium. This event&nbsp\;will be aired live on cable access and WNBP. 
LOCATION:Nock Middle School Auditorium 70 Low Street Newburyport\, MA 01950
UID:e.1189.2305
SEQUENCE:3
DTSTAMP:20260419T204916Z
URL:https://business.newburyportchamber.org/events/details/councilor-at-large-debate-10-25-2011-2305
END:VEVENT

END:VCALENDAR
