BEGIN:VCALENDAR
VERSION:2.0
PRODID:-//ChamberMaster//Event Calendar 2.0//EN
METHOD:PUBLISH
X-PUBLISHED-TTL:P3D
REFRESH-INTERVAL:P3D
CALSCALE:GREGORIAN
BEGIN:VEVENT
DTSTART;VALUE=DATE:20111029
DTEND;VALUE=DATE:20111030
TRANSP:TRANSPARENT
X-MICROSOFT-CDO-ALLDAYEVENT:TRUE
SUMMARY:Costume Ball Fundraiser
DESCRIPTION:
X-ALT-DESC;FMTTYPE=text/html:
LOCATION:The Actor's Studio The Tannery 50 Water St Newburyport
UID:e.1189.2322
SEQUENCE:3
DTSTAMP:20260419T210342Z
URL:https://business.newburyportchamber.org/events/details/costume-ball-fundraiser-10-29-2011-2322
END:VEVENT

END:VCALENDAR
