BEGIN:VCALENDAR
VERSION:2.0
PRODID:-//ChamberMaster//Event Calendar 2.0//EN
METHOD:PUBLISH
X-PUBLISHED-TTL:P3D
REFRESH-INTERVAL:P3D
CALSCALE:GREGORIAN
BEGIN:VEVENT
DTSTART:20111222T220000Z
DTEND:20111223T000000Z
X-MICROSOFT-CDO-ALLDAYEVENT:FALSE
SUMMARY:Cookies in the Corner
DESCRIPTION:Decorate holiday-themed cookies downstairs at the Michael's Chef Station from 5:00-7:00pm. Kids will have a blast decorating fun-shaped cookies for FREE! All you have to do is RSVP to info@michaelsharborside.com with the number of kids attending and get ready for some fun!
X-ALT-DESC;FMTTYPE=text/html:Decorate holiday-themed cookies downstairs at the Michael&rsquo\;s Chef Station from 5:00-7:00pm. Kids will have a blast decorating fun-shaped cookies for FREE! All you have to do is RSVP to info@michaelsharborside.com with the number of kids attending and get ready for some fun!
LOCATION:Michael's Harborside
UID:e.1189.2493
SEQUENCE:3
DTSTAMP:20260419T173008Z
URL:https://business.newburyportchamber.org/events/details/cookies-in-the-corner-12-22-2011-2493
END:VEVENT

END:VCALENDAR
