BEGIN:VCALENDAR
VERSION:2.0
PRODID:-//ChamberMaster//Event Calendar 2.0//EN
METHOD:PUBLISH
X-PUBLISHED-TTL:P3D
REFRESH-INTERVAL:P3D
CALSCALE:GREGORIAN
BEGIN:VEVENT
DTSTART:20111027T213000Z
DTEND:20111028T000000Z
X-MICROSOFT-CDO-ALLDAYEVENT:FALSE
SUMMARY:Cookies in the Corner
DESCRIPTION:Free kids cookie decorating! Decorate Halloween-themed cookies downstairs at the Michael's Chef Station Corner between 5:30-8:00pm on Thursday\, October 27th.\n\n\n\nRSVP to info@michaelsharborside.com with the number of kids attending and show up ready to have a blast! If you decide to stop by last minute\, come on over and make your own cookie creation!
X-ALT-DESC;FMTTYPE=text/html:Free kids cookie decorating! Decorate Halloween-themed cookies downstairs at the Michael&#39\;s Chef Station Corner&nbsp\;between 5:30-8:00pm on Thursday\, October 27th.<br />\n<br />\nRSVP to <a href="mailto:info@michaelsharborside.com">info@michaelsharborside.com</a> with the number of kids attending and show up ready to have a blast! If you decide to stop by last minute\, come on over and make your own cookie creation!
LOCATION:Michael's Harborside
UID:e.1189.2356
SEQUENCE:3
DTSTAMP:20260419T210743Z
URL:https://business.newburyportchamber.org/events/details/cookies-in-the-corner-10-27-2011-2356
END:VEVENT

END:VCALENDAR
