BEGIN:VCALENDAR
VERSION:2.0
PRODID:-//ChamberMaster//Event Calendar 2.0//EN
METHOD:PUBLISH
X-PUBLISHED-TTL:P3D
REFRESH-INTERVAL:P3D
CALSCALE:GREGORIAN
BEGIN:VEVENT
DTSTART:20111218T170000Z
DTEND:20111218T200000Z
X-MICROSOFT-CDO-ALLDAYEVENT:FALSE
SUMMARY:Cookies\, Cocoa\, and Claus
DESCRIPTION:Join us for Cookies\, Cocoa\, and Claus when Santa comes to Michael's!\n\nFree cookies & cocoa for the kids\, free pictures for you. Bring your camera for photos with Santa by the fireplace and share in the holiday spirit by bringing a toy for donation to Toys for Tots.
X-ALT-DESC;FMTTYPE=text/html:Join us for Cookies\, Cocoa\, and Claus when Santa comes to Michael&rsquo\;s!<br />\nFree cookies &amp\; cocoa for the kids\, free pictures for you. Bring your camera for photos with Santa by the fireplace and share in the holiday spirit by bringing a toy for donation to Toys for Tots.
LOCATION:Michael's Harborside Tournament Wharf Newburyport\, MA
UID:e.1189.2410
SEQUENCE:3
DTSTAMP:20260419T155921Z
URL:https://business.newburyportchamber.org/events/details/cookies-cocoa-and-claus-12-18-2011-2410
END:VEVENT

END:VCALENDAR
