BEGIN:VCALENDAR
VERSION:2.0
PRODID:-//ChamberMaster//Event Calendar 2.0//EN
METHOD:PUBLISH
X-PUBLISHED-TTL:P3D
REFRESH-INTERVAL:P3D
CALSCALE:GREGORIAN
BEGIN:VEVENT
DTSTART;VALUE=DATE:20110820
DTEND;VALUE=DATE:20110821
TRANSP:TRANSPARENT
X-MICROSOFT-CDO-ALLDAYEVENT:TRUE
SUMMARY:Concert IV
DESCRIPTION:PRE-CONCERT LECTURE with Kile Smith\, Composer-in-Residence\n\n	6:30-7:15 PM\n\n	CONCERT IV\n\n	7:30 PM\n\n	The Festival Quartet with Jeremy Galyon\, bass-baritone\n\n	Rebecca Clarke - Irish and English Songs for voice and violin\n\n	Samuel Barber- Dover Beach\, Op. 3 for baritone and string quartet\n\n	Kile Smith - "Plain Truths" for voice and string quartet (World Premiere)\n\n	Leo  Jan  ek - String Quartet No. 1 "Kreutzer Sonata"
X-ALT-DESC;FMTTYPE=text/html:<p class="schedule-title">\n	PRE-CONCERT LECTURE <em>with Kile Smith\, Composer-in-Residence</em><br />\n	6:30-7:15 PM</p>\n<p class="schedule-title">\n	CONCERT IV<br />\n	7:30 PM</p>\n<p class="schedule-title">\n	The Festival Quartet with Jeremy Galyon\, bass-baritone</p>\n<p class="schedule-work">\n	<strong>Rebecca Clarke - Irish and English Songs for voice and violin<br />\n	Samuel Barber- Dover Beach\, Op. 3 for baritone and string quartet<br />\n	Kile Smith - &quot\;Plain Truths&quot\; for voice and string quartet (World Premiere)<br />\n	Leo&scaron\; Jan&aacute\;&egrave\;ek - String Quartet No. 1 &quot\;Kreutzer Sonata&quot\;</strong></p>\n
LOCATION:St. Paul's Church 166 High Street\, Newburyport
UID:e.1189.2074
SEQUENCE:3
DTSTAMP:20260419T224154Z
URL:https://business.newburyportchamber.org/events/details/concert-iv-08-20-2011-2074
END:VEVENT

END:VCALENDAR
