BEGIN:VCALENDAR
VERSION:2.0
PRODID:-//ChamberMaster//Event Calendar 2.0//EN
METHOD:PUBLISH
X-PUBLISHED-TTL:P3D
REFRESH-INTERVAL:P3D
CALSCALE:GREGORIAN
BEGIN:VEVENT
DTSTART;VALUE=DATE:20110818
DTEND;VALUE=DATE:20110819
TRANSP:TRANSPARENT
X-MICROSOFT-CDO-ALLDAYEVENT:TRUE
SUMMARY:Concert III: The Merrick Ketcham Concert
DESCRIPTION:Maurice Ravel-Sonata for violin and cello\n\n	Samuel Barber-String Quartet\, Opus 11\n\n	Ludwig van Beethoven - String Quartet in C# Minor\, Opus 131
X-ALT-DESC;FMTTYPE=text/html:<p class="schedule-title">\n	<strong>Maurice Ravel-Sonata for violin and cello<br />\n	Samuel Barber-String Quartet\, Opus 11<br />\n	Ludwig van Beethoven - String Quartet in C# Minor\, Opus 131</strong></p>\n
LOCATION:St. Paul's Church 166 High Street\, Newburyport
UID:e.1189.2072
SEQUENCE:3
DTSTAMP:20260419T224951Z
URL:https://business.newburyportchamber.org/events/details/concert-iii-the-merrick-ketcham-concert-08-18-2011-2072
END:VEVENT

END:VCALENDAR
