BEGIN:VCALENDAR
VERSION:2.0
PRODID:-//ChamberMaster//Event Calendar 2.0//EN
METHOD:PUBLISH
X-PUBLISHED-TTL:P3D
REFRESH-INTERVAL:P3D
CALSCALE:GREGORIAN
BEGIN:VEVENT
DTSTART;VALUE=DATE:20110816
DTEND;VALUE=DATE:20110817
TRANSP:TRANSPARENT
X-MICROSOFT-CDO-ALLDAYEVENT:TRUE
SUMMARY:Concert II: Outdoor Concert
DESCRIPTION:The Festival Quartet\n\n	Selections from the concerts
X-ALT-DESC;FMTTYPE=text/html:<p class="schedule-title">\n	The Festival Quartet<br />\n	Selections from the concerts</p>\n
LOCATION:Inn Street Downtown Newburyport
UID:e.1189.2066
SEQUENCE:3
DTSTAMP:20260419T230052Z
URL:https://business.newburyportchamber.org/events/details/concert-ii-outdoor-concert-08-16-2011-2066
END:VEVENT

END:VCALENDAR
