BEGIN:VCALENDAR
VERSION:2.0
PRODID:-//ChamberMaster//Event Calendar 2.0//EN
METHOD:PUBLISH
X-PUBLISHED-TTL:P3D
REFRESH-INTERVAL:P3D
CALSCALE:GREGORIAN
BEGIN:VEVENT
DTSTART;VALUE=DATE:20110813
DTEND;VALUE=DATE:20110814
TRANSP:TRANSPARENT
X-MICROSOFT-CDO-ALLDAYEVENT:TRUE
SUMMARY:Concert I: Early Music
DESCRIPTION:Leah Gale Nelson and Dongsok Shin\, baroque violin and harpsichord\n\n	"Violin & Keyboard:  the Early Years"\n\n	 Music of Bach\, Biber\, Corelli\, Couperin\, Fischer\, and Froberger
X-ALT-DESC;FMTTYPE=text/html:<p class="schedule-title">\n	Leah Gale Nelson and Dongsok Shin\, baroque violin and harpsichord</p>\n<h3 class="schedule-work">\n	&quot\;Violin &amp\; Keyboard:&nbsp\; the Early Years&quot\;<br />\n	&nbsp\;<em>Music of Bach\, Biber\, Corelli\, Couperin\, Fischer\, and Froberger</em></h3>\n
LOCATION:St. Paul's Church 166 High Street\, Newburyport
UID:e.1189.2059
SEQUENCE:3
DTSTAMP:20260419T224637Z
URL:https://business.newburyportchamber.org/events/details/concert-i-early-music-08-13-2011-2059
END:VEVENT

END:VCALENDAR
