BEGIN:VCALENDAR
VERSION:2.0
PRODID:-//ChamberMaster//Event Calendar 2.0//EN
METHOD:PUBLISH
X-PUBLISHED-TTL:P3D
REFRESH-INTERVAL:P3D
CALSCALE:GREGORIAN
BEGIN:VEVENT
DTSTART;VALUE=DATE:20120123
DTEND;VALUE=DATE:20120124
TRANSP:TRANSPARENT
X-MICROSOFT-CDO-ALLDAYEVENT:TRUE
SUMMARY:Community Sponsorship Night at Michael's Harborside
DESCRIPTION:Enjoy an evening of fine food at Michaels' Harborside\, Newburyport's premier waterfront restaurant\, while also supporting a worthy cause.  A portion of your dining bill will be donated by Michael's to Turning Point.  It's a great opportunity to help out while you dine out.
X-ALT-DESC;FMTTYPE=text/html:<p style="text-align: center">\n	Enjoy an evening of fine food at Michaels&#39\; Harborside\, Newburyport&#39\;s premier waterfront restaurant\, while also supporting a worthy cause.&nbsp\; A portion of your dining bill will be donated by Michael&#39\;s to Turning Point.&nbsp\; It&#39\;s a great opportunity to help out while you dine out.</p>\n
LOCATION:Michael's Harborside Restaurant One Tournament Wharf Newburyport
UID:e.1189.2718
SEQUENCE:3
DTSTAMP:20260419T140918Z
URL:https://business.newburyportchamber.org/events/details/community-sponsorship-night-at-michael-s-harborside-01-23-2012-2718
END:VEVENT

END:VCALENDAR
