BEGIN:VCALENDAR
VERSION:2.0
PRODID:-//ChamberMaster//Event Calendar 2.0//EN
METHOD:PUBLISH
X-PUBLISHED-TTL:P3D
REFRESH-INTERVAL:P3D
CALSCALE:GREGORIAN
BEGIN:VEVENT
DTSTART:20080417T040000Z
DTEND:20080417T040000Z
X-MICROSOFT-CDO-ALLDAYEVENT:FALSE
SUMMARY:Communications Committee
DESCRIPTION:
X-ALT-DESC;FMTTYPE=text/html:
LOCATION:Chamber Office
UID:e.1189.839
SEQUENCE:3
DTSTAMP:20260424T101749Z
URL:https://business.newburyportchamber.org/events/details/communications-committee-04-17-2008-839
END:VEVENT

END:VCALENDAR
