BEGIN:VCALENDAR
VERSION:2.0
PRODID:-//ChamberMaster//Event Calendar 2.0//EN
METHOD:PUBLISH
X-PUBLISHED-TTL:P3D
REFRESH-INTERVAL:P3D
CALSCALE:GREGORIAN
BEGIN:VEVENT
DTSTART:20120226T010000Z
DTEND:20120226T040000Z
X-MICROSOFT-CDO-ALLDAYEVENT:FALSE
SUMMARY:Comedy Night at Keon's at Black Swan Country Club
DESCRIPTION:WORLD GONE CRAZY COMEDY BAND\n\n	COMEDY NIGHT!\n\n	\n\n	www.worldgonecrazyband.com\n\n	\n\n	The Comedic Rock and Roll Circus\n\n	New England's premier comedy and rock & roll show hits audiences right between the eyes with twisted song parodies\, hysterical musical impressions\, fake commercials and comedic rants about the state of today's insane world. WGC combines comedians with musical ability and musicians with comic ability for a power-packed evening delivering as much laughter as it does musical talent.\n\n	\n\n	\n\n	Saturday\, February 25th\n\n	Doors Open at 7pm\n\n	Show Starts at 8pm\n\n	$20 +tax per person\n\n	\n\n	\n\n	CALL 978-352-2991 FOR TICKETS!\n\n	.
X-ALT-DESC;FMTTYPE=text/html:<p style="text-align: center">\n	<span style="font-family: comic sans ms"><strong><span style="font-size: 16px"><span style="color: #800080">WORLD GONE CRAZY COMEDY BAND</span><br />\n	<span style="color: #ff8c00">COMEDY NIGHT!</span><br />\n	<br />\n	<a href="http://www.worldgonecrazyband.com">www.worldgonecrazyband.com</a></span><br />\n	<br />\n	The Comedic Rock and Roll Circus<br />\n	New England&rsquo\;s premier comedy and rock &amp\; roll show hits audiences right between the eyes with twisted song parodies\, hysterical musical impressions\, fake commercials and comedic rants about the state of today&rsquo\;s insane world. WGC combines comedians with musical ability and musicians with comic ability for a power-packed evening delivering as much laughter as it does musical talent.</strong><br />\n	<br />\n	<br />\n	<span style="color: #800080"><strong><span style="font-size: 16px">Saturday\, February 25th<br />\n	Doors Open at 7pm<br />\n	Show Starts at 8pm<br />\n	$20 +tax per person</span></strong></span></span><br />\n	<br />\n	<br />\n	<span style="color: #800080"><strong><span style="font-size: 16px">CALL 978-352-2991 FOR TICKETS!</span></strong></span><br />\n	.</p>\n
LOCATION:Keon's at the Black Swan Country Club 258 Andover Street Georgetown
UID:e.1189.2906
SEQUENCE:3
DTSTAMP:20260419T125306Z
URL:https://business.newburyportchamber.org/events/details/comedy-night-at-keon-s-at-black-swan-country-club-02-25-2012-2906
END:VEVENT

END:VCALENDAR
