BEGIN:VCALENDAR
VERSION:2.0
PRODID:-//ChamberMaster//Event Calendar 2.0//EN
METHOD:PUBLISH
X-PUBLISHED-TTL:P3D
REFRESH-INTERVAL:P3D
CALSCALE:GREGORIAN
BEGIN:VEVENT
DTSTART:20110618T000000Z
DTEND:20110618T030000Z
X-MICROSOFT-CDO-ALLDAYEVENT:FALSE
SUMMARY:Comedian Lenny Clarke
DESCRIPTION:Clarke was the most famous "saloon comic" in Boston during the 1980s\, the heyday of the Boston comedy scene. The DVD release When Standup Stood Out (2006) details Clarke's early career and affiliations with other famous Boston comics\, such as Steven Wright and Denis Leary\, his good friends. In 1980\, Clarke wrote and starred in a local television show Lenny Clarke's Late Show featuring Wright and Leary\, in collaboration with Boston comedy writer Martin Olson. Clarke and Olson were roommates\, andtheir apartment\, known by comedians as "The Barracks"\, was a notorious "crash pad" for comics visiting Boston\, and the subject of a documentary film as Clarke and Leary explain in When Standup Stood Out.Since his early days in Boston\, Clarke starred in his own short-lived network sitcom Lenny (1990)\, and in such TV shows as Contest Searchlight\, The Job\, The John Larroquette Show and It's All Relative and movies like Monument Ave.\, Fever Pitch and Southie. As of 2006\, Clarke appears in the recurring role of Uncle Teddy on the FX comedy-drama Rescue Me.
X-ALT-DESC;FMTTYPE=text/html:Clarke was the most famous &quot\;saloon comic&quot\; in Boston during the 1980s\, the heyday of the Boston comedy scene. The DVD release When Standup Stood Out (2006) details Clarke&#39\;s early career and affiliations with other famous Boston comics\, such as Steven Wright and Denis Leary\, his good friends. In 1980\, Clarke wrote and starred in a local television show Lenny Clarke&#39\;s Late Show featuring Wright and Leary\, in collaboration with Boston comedy writer Martin Olson. Clarke and Olson were roommates\, andtheir apartment\, known by comedians as &quot\;The Barracks&quot\;\, was a notorious &quot\;crash pad&quot\; for comics visiting Boston\, and the subject of a documentary film as Clarke and Leary explain in When Standup Stood Out.Since his early days in Boston\, Clarke starred in his own short-lived network sitcom Lenny (1990)\, and in such TV shows as Contest Searchlight\, The Job\, The John Larroquette Show and It&#39\;s All Relative and movies like Monument Ave.\, Fever Pitch and Southie. As of 2006\, Clarke appears in the recurring role of Uncle Teddy on the FX comedy-drama Rescue Me.
LOCATION:Blue Ocean Music Hall 4 Oceanfront North Salisbury 978-462-5888
UID:e.1189.1875
SEQUENCE:3
DTSTAMP:20260420T035214Z
URL:https://business.newburyportchamber.org/events/details/comedian-lenny-clarke-06-17-2011-1875
END:VEVENT

END:VCALENDAR
