BEGIN:VCALENDAR
VERSION:2.0
PRODID:-//ChamberMaster//Event Calendar 2.0//EN
METHOD:PUBLISH
X-PUBLISHED-TTL:P3D
REFRESH-INTERVAL:P3D
CALSCALE:GREGORIAN
BEGIN:VEVENT
DTSTART:20111031T213000Z
DTEND:20111031T233000Z
X-MICROSOFT-CDO-ALLDAYEVENT:FALSE
SUMMARY:City Wide Trick or Treat
DESCRIPTION:Newburyport City Wide Trick or Treat\n\n\n\nDay and time are determined by Newburyport Police Department
X-ALT-DESC;FMTTYPE=text/html:Newburyport City Wide Trick or Treat<br />\n<br />\nDay and time are determined by Newburyport Police Department&nbsp\;
LOCATION:Throughout City of Newburyport
UID:e.1189.2351
SEQUENCE:3
DTSTAMP:20260419T211616Z
URL:https://business.newburyportchamber.org/events/details/city-wide-trick-or-treat-10-31-2011-2351
END:VEVENT

END:VCALENDAR
