BEGIN:VCALENDAR
VERSION:2.0
PRODID:-//ChamberMaster//Event Calendar 2.0//EN
METHOD:PUBLISH
X-PUBLISHED-TTL:P3D
REFRESH-INTERVAL:P3D
CALSCALE:GREGORIAN
BEGIN:VEVENT
DTSTART:20111224T230000Z
DTEND:20111225T010000Z
X-MICROSOFT-CDO-ALLDAYEVENT:FALSE
SUMMARY:Christmas Eve Candlelight Service
DESCRIPTION:Take time to reflect on teh true joy this season brings.  We invite you to evening of Lessons and Carols\, finished with the singing of "Silent Night" in candlelight.  This is a family friendly service.
X-ALT-DESC;FMTTYPE=text/html:Take time to reflect on teh true joy this season brings.&nbsp\; We invite you to evening of Lessons and Carols\, finished with the singing of &quot\;Silent Night&quot\; in candlelight.&nbsp\; This is a family friendly service.
LOCATION:Old South Church 29 Federal Street Newburyport\, MA
UID:e.1189.2475
SEQUENCE:3
DTSTAMP:20260419T172846Z
URL:https://business.newburyportchamber.org/events/details/christmas-eve-candlelight-service-12-24-2011-2475
END:VEVENT

END:VCALENDAR
