BEGIN:VCALENDAR
VERSION:2.0
PRODID:-//ChamberMaster//Event Calendar 2.0//EN
METHOD:PUBLISH
X-PUBLISHED-TTL:P3D
REFRESH-INTERVAL:P3D
CALSCALE:GREGORIAN
BEGIN:VEVENT
DTSTART:20111106T000000Z
DTEND:20111106T030000Z
X-MICROSOFT-CDO-ALLDAYEVENT:FALSE
SUMMARY:Chris Richards Live
DESCRIPTION:Join Chris Richards for live entertainment upstairs at Michael's Harborside. Hope to see you there!
X-ALT-DESC;FMTTYPE=text/html:Join Chris Richards for live entertainment upstairs at Michael&#39\;s Harborside. Hope to see you there!
LOCATION:Michael's Harborside Tournament Wharf Newburyport
UID:e.1189.2368
SEQUENCE:3
DTSTAMP:20260419T172512Z
URL:https://business.newburyportchamber.org/events/details/chris-richards-live-11-05-2011-2368
END:VEVENT

END:VCALENDAR
