BEGIN:VCALENDAR
VERSION:2.0
PRODID:-//ChamberMaster//Event Calendar 2.0//EN
METHOD:PUBLISH
X-PUBLISHED-TTL:P3D
REFRESH-INTERVAL:P3D
CALSCALE:GREGORIAN
BEGIN:VEVENT
DTSTART;VALUE=DATE:20110817
DTEND;VALUE=DATE:20110818
TRANSP:TRANSPARENT
X-MICROSOFT-CDO-ALLDAYEVENT:TRUE
SUMMARY:Children's Concert with Chuck Speicher and the Festival Quartet (for children 5 and up)
DESCRIPTION:"Samuel Barber's Masterpiece for Kids"\n\n	Using interactive demonstration\, Chuck Speicher and the Festival Quartet show what makes Barber's beloved "Adagio" (and the rest of the piece) one of the greatest masterpieces of all time.
X-ALT-DESC;FMTTYPE=text/html:<p class="schedule-work">\n	<strong>&quot\;Samuel Barber&#39\;s Masterpiece for Kids&quot\;</strong><br />\n	Using interactive demonstration\, Chuck Speicher and the Festival Quartet show what makes Barber&#39\;s beloved &quot\;Adagio&quot\; (and the rest of the piece) one of the greatest masterpieces of all time.</p>\n
LOCATION:Newburyport Public Library 94 State Street\, Newburyport
UID:e.1189.2069
SEQUENCE:3
DTSTAMP:20260420T002555Z
URL:https://business.newburyportchamber.org/events/details/children-s-concert-with-chuck-speicher-and-the-festival-quartet-for-children-5-and-up-08-17-2011-2069
END:VEVENT

END:VCALENDAR
