BEGIN:VCALENDAR
VERSION:2.0
PRODID:-//ChamberMaster//Event Calendar 2.0//EN
METHOD:PUBLISH
X-PUBLISHED-TTL:P3D
REFRESH-INTERVAL:P3D
CALSCALE:GREGORIAN
BEGIN:VEVENT
DTSTART:20111218T220000Z
DTEND:20111219T010000Z
X-MICROSOFT-CDO-ALLDAYEVENT:FALSE
SUMMARY:Champagne and Chocolates Holiday Shopping Event
DESCRIPTION:Enjoy Christmas shopping in style at our\n\nChampagne and Chocolates Holiday Shopping Event\n\nSaturday December 17th\, from 5-8 p.m.\n\n\n\nThis event will focus on smaller works\, perfect for Christmas gifts\, and feature\n\ndozens of paintings\, intaglio prints\, and sculptures\, all priced less than an ipad.\n\nShoppers will have to opportunity to take 10% off any work of art in the gallery\n\nthis one night only.\n\n\n\nBubbly\, chocolates\, and gift wrapping- all complimentary!
X-ALT-DESC;FMTTYPE=text/html:Enjoy Christmas shopping in style at our<br />\nChampagne and Chocolates Holiday Shopping Event<br />\nSaturday December 17th\, from 5-8 p.m.<br />\n<br />\nThis event will focus on smaller works\, perfect for Christmas gifts\, and feature<br />\ndozens of paintings\, intaglio prints\, and sculptures\, all priced less than an ipad.<br />\nShoppers will have to opportunity to take 10% off any work of art in the gallery<br />\nthis one night only.<br />\n<br />\nBubbly\, chocolates\, and gift wrapping- all complimentary!
LOCATION:The Walsingham Gallery
UID:e.1189.2477
SEQUENCE:3
DTSTAMP:20260419T160224Z
URL:https://business.newburyportchamber.org/events/details/champagne-and-chocolates-holiday-shopping-event-12-18-2011-2477
END:VEVENT

END:VCALENDAR
