BEGIN:VCALENDAR
VERSION:2.0
PRODID:-//ChamberMaster//Event Calendar 2.0//EN
METHOD:PUBLISH
X-PUBLISHED-TTL:P3D
REFRESH-INTERVAL:P3D
CALSCALE:GREGORIAN
BEGIN:VEVENT
DTSTART:20101104T040000Z
DTEND:20101104T040000Z
X-MICROSOFT-CDO-ALLDAYEVENT:FALSE
SUMMARY:Chamber Business Expo & Mixer
DESCRIPTION:SAVE THE DATE!\n\nChamber Business Expo & Mixer\nThursday\, November 4th\nNewburyport City Hall\n\nBusiness Expo: 2:00 PM to 6:00 PMNetworking Mixer: 5:00 PM to 7:00 PM Click Here for more event details!
X-ALT-DESC;FMTTYPE=text/html:<DIV><DIV><FONT size=2 face=Arial><P style="MARGIN: 0in 0in 0pt" class=MsoNormal><SPAN style="FONT-FAMILY: Arial\; FONT-SIZE: 10pt"><STRONG>SAVE THE DATE!<BR><BR></STRONG></SPAN></P><P style="MARGIN: 0in 0in 0pt" class=MsoNormal><SPAN style="FONT-FAMILY: Arial\; FONT-SIZE: 10pt"><STRONG>Chamber Business Expo &amp\; Mixer<BR></STRONG>Thursday\, November 4th<BR>Newburyport City Hall<BR><BR></SPAN></FONT><FONT size=2 face=Arial><SPAN style="FONT-FAMILY: Arial\; FONT-SIZE: 10pt">Business Expo: 2:00 PM to 6:00 PM</SPAN></FONT></P></DIV><DIV><FONT size=2 face=Arial><SPAN style="FONT-FAMILY: Arial\; FONT-SIZE: 10pt">Networking Mixer: 5:00 PM to 7:00 PM</SPAN></FONT></DIV><DIV><FONT size=2 face=Arial><SPAN style="FONT-FAMILY: Arial\; FONT-SIZE: 10pt"></SPAN></FONT>&nbsp\;</DIV><DIV><FONT size=2 face=Arial><SPAN style="FONT-FAMILY: Arial\; FONT-SIZE: 10pt"><A style="COLOR: black\; TEXT-DECORATION: underline" title="" dataFld=0:0 href="http://www.newburyportchamber.org/business_expo.shtml" target=_NewWindow>Click Here</A> for more event details!</SPAN></FONT></DIV></DIV>
LOCATION:Newburyport City Hall
UID:e.1189.1610
SEQUENCE:3
DTSTAMP:20260420T160836Z
URL:https://business.newburyportchamber.org/events/details/chamber-business-expo-mixer-11-04-2010-1610
END:VEVENT

END:VCALENDAR
