BEGIN:VCALENDAR
VERSION:2.0
PRODID:-//ChamberMaster//Event Calendar 2.0//EN
METHOD:PUBLISH
X-PUBLISHED-TTL:P3D
REFRESH-INTERVAL:P3D
CALSCALE:GREGORIAN
BEGIN:VEVENT
DTSTART:20120112T223000Z
DTEND:20120113T013000Z
X-MICROSOFT-CDO-ALLDAYEVENT:FALSE
SUMMARY:Celebrity Bartender Night
DESCRIPTION:Join the crew from John Farley Clothiers for a Celebrity Bartender Night on Thursday\, January 12th at 5:30pm with a portion of the proceeds going directly to the Nathaniel Bibaud Recovery Fund. We have a special cocktail\, 'The Farley Manhattan\,' that we'll be offering all month long and every time you order it\, portion of the sales will go to the Nate Bibaurd's Recovery Fund AND you'll have a chance to win a gift card back to John Farley!
X-ALT-DESC;FMTTYPE=text/html:Join the crew from John Farley Clothiers for a Celebrity Bartender Night on Thursday\, January 12th at 5:30pm with a portion of the proceeds going directly to the Nathaniel Bibaud Recovery Fund. We have a special cocktail\, &#39\;The Farley Manhattan\,&#39\; that we&#39\;ll be offering all month long and every time you order it\, portion of the sales will go to the Nate Bibaurd&#39\;s Recovery Fund <em>AND</em> you&#39\;ll have a chance to win a gift card back to John Farley!
LOCATION:Ten Center Street Restaurant 10 Center St Newburyport
UID:e.1189.2533
SEQUENCE:3
DTSTAMP:20260419T140654Z
URL:https://business.newburyportchamber.org/events/details/celebrity-bartender-night-01-12-2012-2533
END:VEVENT

END:VCALENDAR
