BEGIN:VCALENDAR
VERSION:2.0
PRODID:-//ChamberMaster//Event Calendar 2.0//EN
METHOD:PUBLISH
X-PUBLISHED-TTL:P3D
REFRESH-INTERVAL:P3D
CALSCALE:GREGORIAN
BEGIN:VEVENT
DTSTART:20111016T190000Z
DTEND:20111016T200000Z
X-MICROSOFT-CDO-ALLDAYEVENT:FALSE
SUMMARY:Cathy and Marcy at Firehouse Center for the Arts
DESCRIPTION:A rare appearance by two-time GRAMMY winners Cathy Fink & Marcy Marxer who sing\, yodel\, chicken cluck in harmony\, scat sing\, and twirl a mean lariat rope! Their musical arsenal includes electric and acoustic guitars\, banjos\, mandolin\, ukulele\, percussion\, and even a funky oatmeal box banjo and cigar box electric guitar. Music\, comedy and audience participation create one contagiously high-spirited family show!\n\n\n\nMost importantly\, they love what they do and have been rewarded for their excellence with 2 GRAMMY  Awards\, eleven consecutive GRAMMY  nominations and literally\n\nhundreds of awards from The Parents' Choice Foundation\, American Library Association\, John Lennon Songwriting Contest\, Washington Area Music Association and\n\non and on.....\n\n\n\nOver 5\,000 shows in performing arts centers\, schools\, folk festivals\, community centers\, libraries and children's festivals have given Cathy & Marcy the superb skills\n\nto deliver a show that is fun\, wacky\, energetic\, and participatory and that also brings meaning to their song\, "It's Better When We Sing It Together".\n\n\n\nCathy and Marcy are the first performers who specialize in children's music to win a GRAMMY  Award (in fact two!) in a row\, not associated with a licensed character\, movie\, celebrity or TV show.\n\n\n\nDon't miss this pair of wildly talented women when they arrive at the Firehouse for a fun-filled family afternoon!
X-ALT-DESC;FMTTYPE=text/html:A rare appearance by two-time GRAMMY winners Cathy Fink &amp\; Marcy Marxer who sing\, yodel\, chicken cluck in harmony\, scat sing\, and twirl a mean lariat rope! Their musical arsenal includes electric and acoustic guitars\, banjos\, mandolin\, ukulele\, percussion\, and even a funky oatmeal box banjo and cigar box electric guitar. Music\, comedy and audience participation create one contagiously high-spirited family show!<br />\n<br />\nMost importantly\, they love what they do and have been rewarded for their excellence with 2 GRAMMY&reg\; Awards\, eleven consecutive GRAMMY&reg\; nominations and literally<br />\nhundreds of awards from The Parents&rsquo\; Choice Foundation\, American Library Association\, John Lennon Songwriting Contest\, Washington Area Music Association and<br />\non and on.....<br />\n<br />\nOver 5\,000 shows in performing arts centers\, schools\, folk festivals\, community centers\, libraries and children&rsquo\;s festivals have given Cathy &amp\; Marcy the superb skills<br />\nto deliver a show that is fun\, wacky\, energetic\, and participatory and that also brings meaning to their song\, &ldquo\;It&rsquo\;s Better When We Sing It Together&rdquo\;.<br />\n<br />\nCathy and Marcy are the first performers who specialize in children&rsquo\;s music to win a GRAMMY&reg\; Award (in fact two!) in a row\, not associated with a licensed character\, movie\, celebrity or TV show.<br />\n<br />\nDon&#39\;t miss this pair of wildly talented women when they arrive at the Firehouse for a fun-filled family afternoon!
LOCATION:Firehouse Center for the Arts Market Square Newburyport MA 01950
UID:e.1189.2273
SEQUENCE:3
DTSTAMP:20260419T192140Z
URL:https://business.newburyportchamber.org/events/details/cathy-and-marcy-at-firehouse-center-for-the-arts-10-16-2011-2273
END:VEVENT

END:VCALENDAR
