BEGIN:VCALENDAR
VERSION:2.0
PRODID:-//ChamberMaster//Event Calendar 2.0//EN
METHOD:PUBLISH
X-PUBLISHED-TTL:P3D
REFRESH-INTERVAL:P3D
CALSCALE:GREGORIAN
BEGIN:VEVENT
DTSTART:20111218T003000Z
DTEND:20111218T033000Z
X-MICROSOFT-CDO-ALLDAYEVENT:FALSE
SUMMARY:Cat in the Cradle Coffeehouse
DESCRIPTION:The Cat in the Cradle Coffeehouse features the Lenny Solomon Band presenting an eclectic mix of country\, folk\, blues and acoustic rock and Cunniff and Mageau with more original compositions of jazz\, folk and blues.\n\nReasonably priced concessions are available in the Cat Cafe before and during showtimes.: beer\, wine\, coffee\, tea\, soft drinks and snacks.\n\nDoors open at 7:30\, music starts at 8:00.
X-ALT-DESC;FMTTYPE=text/html:The Cat in the Cradle Coffeehouse features the Lenny Solomon Band presenting an eclectic mix of country\, folk\, blues and acoustic rock and Cunniff and Mageau with more original compositions of jazz\, folk and blues.<br />\nReasonably priced concessions are available in the Cat Cafe before and during showtimes.: beer\, wine\, coffee\, tea\, soft drinks and snacks.<br />\nDoors open at 7:30\, music starts at 8:00.
LOCATION:Byfield Community Arts Center\, 7 Central Street\, Byfield
UID:e.1189.2401
SEQUENCE:3
DTSTAMP:20260419T173031Z
URL:https://business.newburyportchamber.org/events/details/cat-in-the-cradle-coffeehouse-12-17-2011-2401
END:VEVENT

END:VCALENDAR
