BEGIN:VCALENDAR
VERSION:2.0
PRODID:-//ChamberMaster//Event Calendar 2.0//EN
METHOD:PUBLISH
X-PUBLISHED-TTL:P3D
REFRESH-INTERVAL:P3D
CALSCALE:GREGORIAN
BEGIN:VEVENT
DTSTART:20111001T230000Z
DTEND:20111002T030000Z
X-MICROSOFT-CDO-ALLDAYEVENT:FALSE
SUMMARY:Byfield Community Arts Center Annual Fundraiser
DESCRIPTION:Over the past years the Byfield Community Arts Center has promoted arts entertainment to help foster local talent and enrich our community. This could not have been done without  the community's shared passion and support. On Saturday\, October 1 we will be holding our Annual Fundraiser. This event helps to defray the cost of programming for the upcoming season. The night will feature a silent auction\, hors d'oeuvres. and live music by The Stimulantes.\n\n\n\nPlease join us on this fun evening and help the volunteer-run Byfield Community Arts Center continue its mission of promoting community through and with the arts.
X-ALT-DESC;FMTTYPE=text/html:Over the past years the Byfield Community Arts Center has promoted arts entertainment to help foster local talent and enrich our community. This could not have been done without&nbsp\; the community&#39\;s shared passion and support. On <strong>Saturday\, October 1</strong> we will be holding our <strong>Annual Fundraiser</strong>. This event helps to defray the cost of programming for the upcoming season. The night will feature a silent auction\, hors d&#39\;oeuvres. and live music by The Stimulantes.<br />\n<br />\nPlease join us on this fun evening and help the volunteer-run Byfield Community Arts Center continue its mission of promoting community through and with the arts.<br />\n
LOCATION:Byfield Community Arts Center Byfield Community Arts Center
UID:e.1189.2248
SEQUENCE:3
DTSTAMP:20260419T191722Z
URL:https://business.newburyportchamber.org/events/details/byfield-community-arts-center-annual-fundraiser-10-01-2011-2248
END:VEVENT

END:VCALENDAR
