BEGIN:VCALENDAR
VERSION:2.0
PRODID:-//ChamberMaster//Event Calendar 2.0//EN
METHOD:PUBLISH
X-PUBLISHED-TTL:P3D
REFRESH-INTERVAL:P3D
CALSCALE:GREGORIAN
BEGIN:VEVENT
DTSTART:20101201T050000Z
DTEND:20101201T050000Z
X-MICROSOFT-CDO-ALLDAYEVENT:FALSE
SUMMARY:Business Educational Seminar - Public Relations
DESCRIPTION:Public Relations - What Is It And How Do You Get In the News? Ever wonder just what the word PR means? How and why do some organizations make it into the news while others do not?  What are the hot buttons that will peak the media's interest and how do you craft your pitch so they want to feature you.  Join us and hear from a panel of PR professionals who will share their expertise and information with you\, including do's and don'ts that will Get You in The News! Panelists include: Carol LaRosa\, LaRosa Communications\; Pulitzer Prize Winner Anita Perkins\, Media Specialist and formerly of the Eagle Tribune\; Sonya Vartabedian\, Features Editor for the Daily News of Newburyport. Wednesday\, December 17:45 AM Check-in & Coffee8:05 AM Presentation BeginsSponsored by Institution for Savings Members: $15 AdmissionNon Members: $25 Admission Coffee and muffins will be served. Location: Newburyport Public Library\,  State Street. Enter through the back door off Prince Place.* Please do NOT park in the parking lot near the back entrance.
X-ALT-DESC;FMTTYPE=text/html:<DIV><P class=MsoNormal><FONT color=#0f0f0f></FONT><P class=MsoNormal><FONT color=#0f0f0f face="Times New Roman"><SPAN style="FONT-SIZE: 12pt"></SPAN></FONT></P><FONT face=Arial><FONT size=2><FONT color=#ff0000 size=3><P style="MARGIN: 0in 0in 0pt" class=MsoNormal><SPAN style="FONT-FAMILY: Arial\; FONT-SIZE: 10pt"><FONT color=#000000></P><P style="MARGIN: 0in 0in 0pt" class=MsoNormal><FONT color=#0000ff size=3><STRONG>Public Relations&nbsp\;- What&nbsp\;Is It And How Do You&nbsp\;Get In the News?</STRONG></FONT></P><P style="MARGIN: 0in 0in 0pt" class=MsoNormal><STRONG><FONT color=#0000ff size=3></FONT></STRONG><FONT size=3 face=Calibri></FONT>&nbsp\;</P><P style="MARGIN: 0in 0in 0pt" class=MsoNormal><FONT color=#0000ff size=3><FONT color=#000000 face=Calibri>Ever wonder just what the word PR means? How and why do some organizations make it into the news while others do not?&nbsp\; What are the hot buttons that will peak the media's interest and how do you craft your pitch so they want to&nbsp\;feature you.&nbsp\; Join us and hear from a panel of PR professionals who will share their expertise and information with you\, including do's and don'ts&nbsp\;that will Get You in The News!</FONT></FONT></P><P style="MARGIN: 0in 0in 0pt" class=MsoNormal><FONT size=3 face=Calibri></FONT>&nbsp\;</P><P style="MARGIN: 0in 0in 0pt" class=MsoNormal><FONT color=#0000ff size=3><FONT color=#000000 face=Calibri><STRONG>Panelists include:</STRONG>&nbsp\;Carol LaRo</FONT></FONT><FONT color=#0000ff size=3><FONT color=#000000 face=Calibri>sa\, LaRosa Communications\; Pulitzer Prize Winner Anita Perkins\, Media Specialist and formerly of the Eagle Tribune\;&nbsp\;Sonya Vartabedian\, Features Editor for the Daily News of Newburyport.</FONT></FONT></P><P style="MARGIN: 0in 0in 0pt" class=MsoNormal><STRONG><FONT color=#0000ff size=3></FONT></STRONG>&nbsp\;</P><P style="MARGIN: 0in 0in 0pt" class=MsoNormal>Wednesday\, December 1</P><P style="MARGIN: 0in 0in 0pt" class=MsoNormal><SPAN style="FONT-FAMILY: Calibri"><FONT size=3></P><P style="MARGIN: 0in 0in 0pt" class=MsoNormal><FONT color=#ff0000><STRONG>7:45 </STRONG></FONT><FONT color=#000000>AM</FONT><FONT color=#000000> Check-in &amp\;</FONT> Coffee</FONT></SPAN></P><P style="MARGIN: 0in 0in 0pt" class=MsoNormal><FONT size=3><SPAN style="FONT-FAMILY: Calibri"><STRONG><FONT color=#ff0000>8:05</FONT> </STRONG>AM Presentation Begins</SPAN></FONT></P><P style="MARGIN: 0in 0in 0pt" class=MsoNormal><P style="MARGIN: 0in 0in 0pt" class=MsoNormal><SPAN style="FONT-FAMILY: Calibri"><FONT size=3></FONT></SPAN></P><SPAN style="FONT-FAMILY: Calibri"><FONT size=3><?xml:namespace prefix = o ns = "urn:schemas-microsoft-com:office:office" /><o:p><SPAN style="FONT-FAMILY: Arial\; FONT-SIZE: 10pt"><FONT size=3><STRONG><FONT color=#008000></FONT></STRONG></FONT></SPAN><P></P><P style="MARGIN: 0in 0in 0pt" class=MsoNormal><SPAN style="FONT-FAMILY: Arial\; FONT-SIZE: 10pt"><FONT color=#0000ff size=3><STRONG><A style="COLOR: green\; TEXT-DECORATION: underline" title="" dataFld=0:0 href="http://www.institutionforsavings.com" target=_NewWindow>Sponsored by Institution for Savings</A></STRONG></FONT></SPAN></P></o:p></FONT></SPAN><P style="MARGIN: 0in 0in 0pt" class=MsoNormal><SPAN style="FONT-FAMILY: Calibri"><o:p><FONT size=3>&nbsp\;</FONT></o:p></SPAN></P><P style="MARGIN: 0in 0in 0pt" class=MsoNormal><SPAN style="FONT-FAMILY: Calibri"><FONT size=3><STRONG>Members:</STRONG> $15 Admission<o:p></o:p></FONT></SPAN></P><P style="MARGIN: 0in 0in 0pt" class=MsoNormal><SPAN style="FONT-FAMILY: Calibri"><FONT size=3><STRONG>Non Members:</STRONG> $25 Admission<o:p></o:p></FONT></SPAN></P><P style="MARGIN: 0in 0in 0pt" class=MsoNormal><SPAN style="FONT-FAMILY: Calibri"><o:p><FONT size=3>&nbsp\;</FONT></o:p></SPAN></P><P style="MARGIN: 0in 0in 0pt" class=MsoNormal><SPAN style="FONT-FAMILY: Calibri"><FONT size=3>Coffee and muffins will be served.</FONT></SPAN></P><P style="MARGIN: 0in 0in 0pt" class=MsoNormal><SPAN style="FONT-FAMILY: Calibri"><FONT size=3><o:p></o:p></FONT></SPAN>&nbsp\;</P><P style="MARGIN: 0in 0in 0pt" class=MsoNormal><STRONG>Location:</STRONG>&nbsp\;<FONT color=#0000ff size=3><STRONG>Newburyport Public Library\, </STRONG></FONT>&nbsp\;State Street. </FONT><FONT color=#0000ff><STRONG>Enter&nbsp\;through the back door off Prince Place.</STRONG></FONT></SPAN></P><P style="MARGIN: 0in 0in 0pt" class=MsoNormal><SPAN style="FONT-FAMILY: Arial\; FONT-SIZE: 10pt"><FONT color=#000000><FONT color=#ff0000 size=4><STRONG>*</STRONG></FONT> Please do NOT&nbsp\;park in&nbsp\;the parking lot near the back entrance.</FONT></SPAN></P><P style="MARGIN: 0in 0in 0pt" class=MsoNormal>&nbsp\;</P><P style="MARGIN: 0in 0in 0pt" class=MsoNormal><P style="MARGIN: 0in 0in 0pt" class=MsoNormal><STRONG><FONT color=#000000><?xml:namespace prefix = st1 ns = "urn:schemas-microsoft-com:office:smarttags" /><st1:City><st1:place><I style="mso-bidi-font-style: normal"><SPAN style="FONT-FAMILY: Arial\; FONT-SIZE: 10pt"></SPAN></I></st1:place></st1:City></FONT></STRONG></P><STRONG><FONT color=#000000><st1:City><st1:place><I style="mso-bidi-font-style: normal"><SPAN style="FONT-FAMILY: Arial\; FONT-SIZE: 10pt"></SPAN></I></st1:place></st1:City></FONT></STRONG>&nbsp\;<P></P><P style="MARGIN: 0in 0in 0pt" class=MsoNormal><P style="MARGIN: 0in 0in 0pt" class=MsoNormal><FONT color=#000000><SPAN style="FONT-FAMILY: Arial\; FONT-SIZE: 10pt"></SPAN></FONT></P><FONT color=#000000><SPAN style="FONT-FAMILY: Arial\; FONT-SIZE: 10pt"></SPAN></FONT><P></P><P style="MARGIN: 0in 0in 0pt" class=MsoNormal><SPAN style="FONT-FAMILY: Arial\; FONT-SIZE: 10pt"><FONT size=3><STRONG><FONT color=#008000><o:p></o:p></FONT></STRONG></FONT></SPAN>&nbsp\;</P><P class=MsoNormal></FONT></FONT></FONT></P></DIV>
LOCATION:Newburyport Public Library
UID:e.1189.1504
SEQUENCE:3
DTSTAMP:20260420T124303Z
URL:https://business.newburyportchamber.org/events/details/business-educational-seminar-public-relations-12-01-2010-1504
END:VEVENT

END:VCALENDAR
