BEGIN:VCALENDAR
VERSION:2.0
PRODID:-//ChamberMaster//Event Calendar 2.0//EN
METHOD:PUBLISH
X-PUBLISHED-TTL:P3D
REFRESH-INTERVAL:P3D
CALSCALE:GREGORIAN
BEGIN:VEVENT
DTSTART:20110210T050000Z
DTEND:20110210T050000Z
X-MICROSOFT-CDO-ALLDAYEVENT:FALSE
SUMMARY:Business Educational Seminar - Mobile Marketing
DESCRIPTION:An Introduction to Mobile MarketingWhat is mobile marketing\, how do you do it and why add it into your marketing mix? Sponsored by The Newburyport Five Cents Savings Bank With more people using their phones to surf the Web\, buy products\, get info and interact with friends\, marketing and promoting your goods or services via mobile techonology is an idea that's taking hold. Mobile marketing is promotional activity designed for delivery to cell phones\, smart phones and other handheld devices. From mobile websites and apps to text messaging\, businesses and organizations can now engage with their audience (whether customers or potential customers) in an interactive and relevant manner through a mobile device. \nThis is a beginner's seminar. Presented by Julie Cook of Cook Bowe Communications February 10 7:45 AM  Check-in & Networking8:05 AM Presentation BeginsMembers: $15 AdmissionNon Members: $25 AdmissionLocation: MA Audubon\, Joppa FlatsPlum Island Turnpike on the left
X-ALT-DESC;FMTTYPE=text/html:<DIV><P class=MsoNormal><FONT color=#0f0f0f></FONT><P class=MsoNormal><FONT color=#0f0f0f face="Times New Roman"><SPAN style="FONT-SIZE: 12pt"></SPAN></FONT></P><FONT face=Arial><FONT size=2><FONT color=#ff0000 size=3><P style="MARGIN: 0in 0in 0pt" class=MsoNormal><SPAN style="FONT-FAMILY: Arial\; FONT-SIZE: 10pt"><FONT color=#000000></P><P style="MARGIN: 0in 0in 0pt" class=MsoNormal><STRONG><FONT color=#0000ff size=3>An Introduction to Mobile Marketing</FONT></STRONG></P><P style="MARGIN: 0in 0in 0pt" class=MsoNormal><FONT color=#000000 size=3>What is mobile marketing\, how do you do it and why add it into your marketing mix?</FONT></P><P style="MARGIN: 0in 0in 0pt" class=MsoNormal><FONT size=3></FONT>&nbsp\;</P><P style="MARGIN: 0in 0in 0pt" class=MsoNormal><FONT size=3>Sponsored by <FONT color=#004080><STRONG><A style="COLOR: blue\; TEXT-DECORATION: underline" title="" dataFld=0:0 href="http://www.newburyportbank.com/" target=_NewWindow>The Newburyport Five Cents Savings Bank</A></STRONG></FONT></FONT></P><P style="MARGIN: 0in 0in 0pt" class=MsoNormal><FONT size=3></FONT>&nbsp\;</P><P style="MARGIN: 0in 0in 0pt" class=MsoNormal><FONT size=3>With more people using their phones to surf the Web\, buy products\, get info and interact with friends\, marketing and promoting your goods or services&nbsp\;via mobile techonology is an idea that's taking hold. Mobile marketing is promotional activity designed for delivery to cell phones\, smart phones and other handheld devices. From mobile websites and apps to text messaging\, businesses and organizations can now engage with their audience (whether customers or potential customers) in an interactive and relevant manner through a mobile device. <BR></FONT></P><P style="MARGIN: 0in 0in 0pt" class=MsoNormal><FONT size=3>This is&nbsp\;a beginner's&nbsp\;seminar.</FONT></P><P style="MARGIN: 0in 0in 0pt" class=MsoNormal><FONT size=3></FONT>&nbsp\;</P><P style="MARGIN: 0in 0in 0pt" class=MsoNormal><FONT size=3>Presented by Julie Cook of <A style="COLOR: blue\; TEXT-DECORATION: underline" title="" dataFld=0:0 href="http://cookbowecommunications.com" target=_NewWindow>Cook Bowe Communications</A></FONT></P><P style="MARGIN: 0in 0in 0pt" class=MsoNormal><STRONG><FONT color=#0000ff></FONT></STRONG>&nbsp\;</P><P style="MARGIN: 0in 0in 0pt" class=MsoNormal><SPAN style="FONT-FAMILY: Calibri"><FONT size=3><FONT color=#ff0000><FONT color=#000000 face=Arial>February 10</FONT></FONT></FONT></SPAN></P><P style="MARGIN: 0in 0in 0pt" class=MsoNormal><SPAN style="FONT-FAMILY: Calibri"><FONT size=3 face=Arial></FONT></SPAN>&nbsp\;</P><P style="MARGIN: 0in 0in 0pt" class=MsoNormal><SPAN style="FONT-FAMILY: Calibri"><FONT size=3><FONT color=#000000><STRONG><FONT color=#ff0000>7:45 </FONT><FONT color=#000000>AM</FONT></STRONG><FONT color=#000000>&nbsp\;</FONT> Check-in &amp\;</FONT> Networking</FONT></SPAN></P><P style="MARGIN: 0in 0in 0pt" class=MsoNormal><SPAN style="FONT-FAMILY: Calibri"><FONT size=3><STRONG><FONT color=#ff0000>8:05&nbsp\;</FONT><FONT color=#000000>A</FONT>M </STRONG>Presentation Begins</FONT></SPAN></P><P style="MARGIN: 0in 0in 0pt" class=MsoNormal><FONT size=3></FONT><P style="MARGIN: 0in 0in 0pt" class=MsoNormal><SPAN style="FONT-FAMILY: Calibri"><FONT size=3></FONT></SPAN></P><SPAN style="FONT-FAMILY: Calibri"><?xml:namespace prefix = o ns = "urn:schemas-microsoft-com:office:office" /><o:p><SPAN style="FONT-FAMILY: Arial\; FONT-SIZE: 10pt"><STRONG><FONT color=#008000></FONT></STRONG></SPAN><P><FONT size=3></FONT></P></o:p></SPAN><P style="MARGIN: 0in 0in 0pt" class=MsoNormal><SPAN style="FONT-FAMILY: Calibri"><o:p><FONT size=3></FONT></o:p></SPAN></P><P style="MARGIN: 0in 0in 0pt" class=MsoNormal><SPAN style="FONT-FAMILY: Calibri"><FONT size=3><STRONG>Members:</STRONG> $15 Admission<o:p></o:p></FONT></SPAN></P><P style="MARGIN: 0in 0in 0pt" class=MsoNormal><SPAN style="FONT-FAMILY: Calibri"><FONT size=3><STRONG>Non Members:</STRONG> $25 Admission</FONT></SPAN></P><P style="MARGIN: 0in 0in 0pt" class=MsoNormal><SPAN style="FONT-FAMILY: Calibri"><FONT size=3><STRONG><FONT color=#0000ff>Location:</FONT></STRONG> MA Audubon\, Joppa Flats</FONT></SPAN></P><P style="MARGIN: 0in 0in 0pt" class=MsoNormal><SPAN style="FONT-FAMILY: Calibri"><FONT size=3>Plum Island Turnpike on the left</FONT></SPAN></P><P style="MARGIN: 0in 0in 0pt" class=MsoNormal><SPAN style="FONT-FAMILY: Calibri"><o:p>&nbsp\;</o:p></SPAN></P></FONT></SPAN><P class=MsoNormal></FONT></FONT></FONT></P></DIV>
LOCATION:Massachusetts Audubon Society
UID:e.1189.1665
SEQUENCE:3
DTSTAMP:20260420T092318Z
URL:https://business.newburyportchamber.org/events/details/business-educational-seminar-mobile-marketing-02-10-2011-1665
END:VEVENT

END:VCALENDAR
