BEGIN:VCALENDAR
VERSION:2.0
PRODID:-//ChamberMaster//Event Calendar 2.0//EN
METHOD:PUBLISH
X-PUBLISHED-TTL:P3D
REFRESH-INTERVAL:P3D
CALSCALE:GREGORIAN
BEGIN:VEVENT
DTSTART:20100303T050000Z
DTEND:20100303T050000Z
X-MICROSOFT-CDO-ALLDAYEVENT:FALSE
SUMMARY:Business Educational Seminar - Email Marketing
DESCRIPTION:Effective Email MarketingMarch 3rd This seminar will address how to use e-mail marketing to build better customer relationships. You’ll learn how to get started—or\, if your campaign is already under way\, how to improve results. Topics will include copy and design strategies that improve open rates and response\, and how to integrate e-mail into your overall marketing communications strategy.    Registration 7:45 AMSeminar begins at 8:00 AM Presented by David Strand of Strand Marketing and Lisa Markowski of Slater Words & Images Sponsored by Newburyport Five Cents Saving Bank  Members: $15 AdmissionNon Members: $25 Admission Coffee will be served.  Location: \nNewburyport Public Library Community Room\, 94 State StreetPlease enter through back door off Prince Place.Parking on State Street or municipal lots.
X-ALT-DESC;FMTTYPE=text/html:<DIV><P class=MsoNormal><FONT color=#0f0f0f></FONT><P class=MsoNormal><FONT color=#0f0f0f face="Times New Roman"><SPAN style="FONT-SIZE: 12pt"></SPAN></FONT></P><FONT face=Arial><FONT size=2><FONT color=#ff0000 size=3><P style="MARGIN: 0in 0in 0pt" class=MsoNormal><SPAN style="FONT-FAMILY: Arial\; FONT-SIZE: 10pt"><FONT color=#000000></P><P style="MARGIN: 0in 0in 0pt" class=MsoNormal><FONT color=#0000ff size=3><STRONG>Effective Email Marketing</STRONG></FONT></P><P style="MARGIN: 0in 0in 0pt" class=MsoNormal><P style="MARGIN: 0in 0in 0pt" class=MsoNormal><SPAN style="FONT-FAMILY: Calibri"><FONT size=3></FONT></SPAN></P><SPAN style="FONT-FAMILY: Calibri"><FONT size=3></FONT></SPAN><P></P><P style="MARGIN: 0in 0in 0pt" class=MsoNormal><SPAN style="FONT-FAMILY: Calibri"><FONT size=3>March 3rd</FONT></SPAN></P><P style="MARGIN: 0in 0in 0pt" class=MsoNormal><SPAN style="FONT-FAMILY: Calibri"><FONT size=3></FONT></SPAN>&nbsp\;</P><P style="MARGIN: 0in 0in 0pt" class=MsoNormal><SPAN style="FONT-FAMILY: Calibri"><FONT size=3><SPAN class=uistorymessage><SPAN style="FONT-FAMILY: Tahoma\; COLOR: black\; FONT-SIZE: 12pt\; mso-fareast-font-family: 'Times New Roman'\; mso-ansi-language: EN\; mso-fareast-language: EN-US\; mso-bidi-language: AR-SA" lang=EN>This seminar will address how to use e-mail marketing to build better customer relationships. You’ll learn how to get started—or\, if your campaign is&nbsp\;already under way\, how to improve results. Topics will include copy and design strategies that improve open rates and response\, and how to integrate e-mail into your overall marketing communications strategy.&nbsp\;</SPAN></SPAN>&nbsp\; </FONT></SPAN><SPAN style="FONT-FAMILY: Calibri"></SPAN></P><P style="MARGIN: 0in 0in 0pt" class=MsoNormal><SPAN style="FONT-FAMILY: Calibri"><FONT size=3><?xml:namespace prefix = o ns = "urn:schemas-microsoft-com:office:office" /><o:p></o:p></FONT></SPAN>&nbsp\;</P><P style="MARGIN: 0in 0in 0pt" class=MsoNormal><SPAN style="FONT-FAMILY: Calibri"><o:p><FONT size=3></FONT></o:p></SPAN></P><SPAN style="FONT-FAMILY: Calibri"><FONT size=3><P style="MARGIN: 0in 0in 0pt" class=MsoNormal>Registration 7:45 AM<o:p></o:p></FONT></SPAN></P><P style="MARGIN: 0in 0in 0pt" class=MsoNormal><FONT size=3><SPAN style="FONT-FAMILY: Calibri">Seminar begins at </SPAN><?xml:namespace prefix = st1 ns = "urn:schemas-microsoft-com:office:smarttags" /><st1:time Minute="0" Hour="8"><SPAN style="FONT-FAMILY: Calibri">8:00 AM</SPAN></st1:time></FONT></P><P style="MARGIN: 0in 0in 0pt" class=MsoNormal><SPAN style="FONT-FAMILY: Calibri"><FONT size=3></FONT></SPAN>&nbsp\;</P><P style="MARGIN: 0in 0in 0pt" class=MsoNormal><SPAN style="FONT-FAMILY: Calibri"><FONT size=3>Presented by David Strand of <A style="COLOR: blue\; TEXT-DECORATION: underline" title="" dataFld=0:0 href="http://www.strandmarketing.com/" target=_NewWindow><FONT color=#482400><STRONG>Strand Marketing</STRONG></FONT></A> and Lisa Markowski of <STRONG><A style="COLOR: blue\; TEXT-DECORATION: underline" title="" dataFld=0:0 href="http://www.slaterwords.com " target=_NewWindow><FONT color=#800000>Slater Words &amp\; Images</FONT></A></STRONG></FONT></SPAN></P><SPAN style="FONT-FAMILY: Calibri"><FONT size=3><o:p><P style="MARGIN: 0in 0in 0pt" class=MsoNormal><SPAN style="FONT-FAMILY: Arial\; FONT-SIZE: 10pt"><FONT size=3><STRONG><FONT color=#008000></FONT></STRONG></FONT></SPAN>&nbsp\;</P><P style="MARGIN: 0in 0in 0pt" class=MsoNormal><SPAN style="FONT-FAMILY: Arial\; FONT-SIZE: 10pt"><FONT color=#0000ff size=3><STRONG><A style="COLOR: blue\; TEXT-DECORATION: underline" title="" dataFld=0:0 href="http://www.newburyportbank.com  " target=_NewWindow><FONT color=#0000a0>Sponsored by Newburyport Five Cents Saving Bank</FONT></A>&nbsp\;</STRONG></FONT></SPAN></P></o:p></FONT></SPAN><P style="MARGIN: 0in 0in 0pt" class=MsoNormal><SPAN style="FONT-FAMILY: Calibri"><o:p><FONT size=3>&nbsp\;</FONT></o:p></SPAN></P><P style="MARGIN: 0in 0in 0pt" class=MsoNormal><SPAN style="FONT-FAMILY: Calibri"><FONT size=3><STRONG>Members:</STRONG> $15 Admission<o:p></o:p></FONT></SPAN></P><P style="MARGIN: 0in 0in 0pt" class=MsoNormal><SPAN style="FONT-FAMILY: Calibri"><FONT size=3><STRONG>Non Members:</STRONG> $25 Admission<o:p></o:p></FONT></SPAN></P><P style="MARGIN: 0in 0in 0pt" class=MsoNormal><SPAN style="FONT-FAMILY: Calibri"><o:p><FONT size=3>&nbsp\;</FONT></o:p></SPAN></P><P style="MARGIN: 0in 0in 0pt" class=MsoNormal><SPAN style="FONT-FAMILY: Calibri"><FONT size=3>Coffee will be served.<o:p></o:p></FONT></SPAN></P><P style="MARGIN: 0in 0in 0pt" class=MsoNormal></FONT></SPAN><SPAN style="FONT-FAMILY: Arial\; FONT-SIZE: 10pt"></SPAN>&nbsp\;</P><P style="MARGIN: 0in 0in 0pt" class=MsoNormal><SPAN style="FONT-FAMILY: Arial\; FONT-SIZE: 10pt"><FONT color=#000000><STRONG><FONT color=#ff0000>&nbsp\;<U>Location:</U></FONT></STRONG> <BR></FONT></SPAN><SPAN style="FONT-FAMILY: Arial\; FONT-SIZE: 10pt"><FONT color=#000000><FONT color=#0000ff><STRONG>Newburyport Public Library Community Room\, 94 State Street</STRONG></FONT></P><P style="MARGIN: 0in 0in 0pt" class=MsoNormal><SPAN style="FONT-FAMILY: Arial\; FONT-SIZE: 10pt"><STRONG><FONT color=#0000ff>Please enter through back door off Prince Place.</FONT></STRONG></SPAN></P><P style="MARGIN: 0in 0in 0pt" class=MsoNormal><SPAN style="FONT-FAMILY: Arial\; FONT-SIZE: 10pt"><STRONG><FONT color=#0000ff>Parking on State Street or municipal lots.</FONT></STRONG></SPAN></P></FONT></SPAN><P style="MARGIN: 0in 0in 0pt" class=MsoNormal>&nbsp\;</P><P style="MARGIN: 0in 0in 0pt" class=MsoNormal><P style="MARGIN: 0in 0in 0pt" class=MsoNormal><STRONG><FONT color=#000000><st1:City><st1:place><I style="mso-bidi-font-style: normal"><SPAN style="FONT-FAMILY: Arial\; FONT-SIZE: 10pt"></SPAN></I></st1:place></st1:City></FONT></STRONG></P><STRONG><FONT color=#000000><st1:City><st1:place><I style="mso-bidi-font-style: normal"><SPAN style="FONT-FAMILY: Arial\; FONT-SIZE: 10pt"></SPAN></I></st1:place></st1:City></FONT></STRONG>&nbsp\;<P></P><P style="MARGIN: 0in 0in 0pt" class=MsoNormal><P style="MARGIN: 0in 0in 0pt" class=MsoNormal><FONT color=#000000><SPAN style="FONT-FAMILY: Arial\; FONT-SIZE: 10pt"></SPAN></FONT></P><FONT color=#000000><SPAN style="FONT-FAMILY: Arial\; FONT-SIZE: 10pt"></SPAN></FONT><P></P><P style="MARGIN: 0in 0in 0pt" class=MsoNormal><SPAN style="FONT-FAMILY: Arial\; FONT-SIZE: 10pt"><FONT size=3><STRONG><FONT color=#008000><o:p></o:p></FONT></STRONG></FONT></SPAN>&nbsp\;</P><P class=MsoNormal></FONT></FONT></FONT></P></DIV>
LOCATION:Newburyport Public Library Community Room
UID:e.1189.1495
SEQUENCE:3
DTSTAMP:20260421T085645Z
URL:https://business.newburyportchamber.org/events/details/business-educational-seminar-email-marketing-03-03-2010-1495
END:VEVENT

END:VCALENDAR
