BEGIN:VCALENDAR
VERSION:2.0
PRODID:-//ChamberMaster//Event Calendar 2.0//EN
METHOD:PUBLISH
X-PUBLISHED-TTL:P3D
REFRESH-INTERVAL:P3D
CALSCALE:GREGORIAN
BEGIN:VEVENT
DTSTART:20100414T040000Z
DTEND:20100414T040000Z
X-MICROSOFT-CDO-ALLDAYEVENT:FALSE
SUMMARY:Business Educational Seminar - Effective Networking
DESCRIPTION:Networking: What It Is And What It Isn'tHow to do it Effectively to Grow Your Business! April 14 7:45 AM Registration\, Coffee & Networking8:05 AM  - 9:30 Presentation Seasoned networkers Ann Ormond\, President of the Newburyport Chamber and Bill Piercey\, VP at Chase and Lunt Insurance will share their tips on effective networking and the difference between networking (building a relationship) and selling (closing a deal).  Marc Clopton of The Actor’s Studio will share in the role playing of the Do’s and Don’t’s!Sponsored by Institution for Savings Members: $15 AdmissionNon Members: $25 Admission Coffee will be served. * Please do not park in bank parking lot\, park on street or in municipal lot. Enter through side door on Prospect Street.
X-ALT-DESC;FMTTYPE=text/html:<DIV><P class=MsoNormal><FONT color=#0f0f0f></FONT><P class=MsoNormal><FONT color=#0f0f0f face="Times New Roman"><SPAN style="FONT-SIZE: 12pt"></SPAN></FONT></P><FONT face=Arial><FONT size=2><FONT color=#ff0000 size=3><P style="MARGIN: 0in 0in 0pt" class=MsoNormal><SPAN style="FONT-FAMILY: Arial\; FONT-SIZE: 10pt"><FONT color=#000000></P><P style="MARGIN: 0in 0in 0pt" class=MsoNormal><FONT color=#0000ff size=3><STRONG>Networking: What It Is And What It Isn't</STRONG></FONT></P><P style="MARGIN: 0in 0in 0pt" class=MsoNormal><STRONG><FONT color=#0000ff size=3>How to do it Effectively to Grow Your Business!</FONT></STRONG></P><P style="MARGIN: 0in 0in 0pt" class=MsoNormal>&nbsp\;</P><P style="MARGIN: 0in 0in 0pt" class=MsoNormal><SPAN style="FONT-FAMILY: Calibri"><FONT size=3>April 14</FONT></SPAN></P><P style="MARGIN: 0in 0in 0pt" class=MsoNormal>&nbsp\;</P><P style="MARGIN: 0in 0in 0pt" class=MsoNormal><SPAN style="FONT-FAMILY: Calibri"><?xml:namespace prefix = o ns = "urn:schemas-microsoft-com:office:office" /><o:p><FONT size=3></FONT></o:p></SPAN></P><SPAN style="FONT-FAMILY: Calibri"><FONT size=3><P style="MARGIN: 0in 0in 0pt" class=MsoNormal>7:45 AM Registration\, Coffee &amp\; Networking<o:p></o:p></FONT></SPAN></P><P style="MARGIN: 0in 0in 0pt" class=MsoNormal><FONT size=3><SPAN style="FONT-FAMILY: Calibri">8:05 AM&nbsp\; - 9:30 Presentation</SPAN></FONT></P><P style="MARGIN: 0in 0in 0pt" class=MsoNormal><FONT size=3><SPAN style="FONT-FAMILY: Calibri"></SPAN></FONT>&nbsp\;</P><P style="MARGIN: 0in 0in 0pt" class=MsoNormal><SPAN style="FONT-FAMILY: Calibri"><FONT size=3>Seasoned networkers Ann Ormond\, President of&nbsp\;the Newburyport Chamber and Bill&nbsp\;Piercey\, VP at <A style="COLOR: blue\; TEXT-DECORATION: underline" title="" dataFld=0:0 href="htp://www.chaseandlunt.com" target=_NewWindow>Chase and Lunt Insurance</A> will share their tips on effective networking and the difference between networking (building a relationship) and selling (closing a deal).&nbsp\; <SPAN style="FONT-FAMILY: Arial\; FONT-SIZE: 10pt">Marc Clopton</SPAN><FONT face=Arial><SPAN style="FONT-FAMILY: Arial\; FONT-SIZE: 10pt"> of <A style="COLOR: blue\; TEXT-DECORATION: underline" title="" dataFld=0:0 href="http://www.newburyportacting.com" target=_NewWindow>The Actor’s Studio</A> will share in the role playing of the Do’s and Don’t’s!</SPAN></FONT></FONT></SPAN></P><P style="MARGIN: 0in 0in 0pt" class=MsoNormal><P style="MARGIN: 0in 0in 0pt" class=MsoNormal><SPAN style="FONT-FAMILY: Calibri"><FONT size=3></FONT></SPAN></P><SPAN style="FONT-FAMILY: Calibri"><FONT size=3><o:p><SPAN style="FONT-FAMILY: Arial\; FONT-SIZE: 10pt"><FONT size=3><STRONG><FONT color=#008000></FONT></STRONG></FONT></SPAN><P></P><P style="MARGIN: 0in 0in 0pt" class=MsoNormal><SPAN style="FONT-FAMILY: Arial\; FONT-SIZE: 10pt"><FONT color=#008000 size=3><STRONG><A style="COLOR: green\; TEXT-DECORATION: underline" title="" dataFld=0:0 href="https://www.institutionforsavings.com/" target=_NewWindow>Sponsored by Institution for Savings</A></STRONG></FONT></SPAN></P></o:p></FONT></SPAN><P style="MARGIN: 0in 0in 0pt" class=MsoNormal><SPAN style="FONT-FAMILY: Calibri"><o:p><FONT size=3>&nbsp\;</FONT></o:p></SPAN></P><P style="MARGIN: 0in 0in 0pt" class=MsoNormal><SPAN style="FONT-FAMILY: Calibri"><FONT size=3><STRONG>Members:</STRONG> $15 Admission<o:p></o:p></FONT></SPAN></P><P style="MARGIN: 0in 0in 0pt" class=MsoNormal><SPAN style="FONT-FAMILY: Calibri"><FONT size=3><STRONG>Non Members:</STRONG> $25 Admission<o:p></o:p></FONT></SPAN></P><P style="MARGIN: 0in 0in 0pt" class=MsoNormal><SPAN style="FONT-FAMILY: Calibri"><o:p><FONT size=3>&nbsp\;</FONT></o:p></SPAN></P><P style="MARGIN: 0in 0in 0pt" class=MsoNormal><SPAN style="FONT-FAMILY: Calibri"><FONT size=3>Coffee will be served.<o:p></o:p></FONT></SPAN></P><P style="MARGIN: 0in 0in 0pt" class=MsoNormal></FONT></SPAN><SPAN style="FONT-FAMILY: Arial\; FONT-SIZE: 10pt"><FONT color=#000000></FONT></SPAN>&nbsp\;</P><P style="MARGIN: 0in 0in 0pt" class=MsoNormal><SPAN style="FONT-FAMILY: Arial\; FONT-SIZE: 10pt"><FONT color=#000000><FONT color=#ff0000 size=4><STRONG>*</STRONG></FONT> Please do not park in bank parking lot\, park on street or in municipal lot. Enter through side door on Prospect Street.</FONT></SPAN></P><P style="MARGIN: 0in 0in 0pt" class=MsoNormal>&nbsp\;</P><P style="MARGIN: 0in 0in 0pt" class=MsoNormal><P style="MARGIN: 0in 0in 0pt" class=MsoNormal><STRONG><FONT color=#000000><?xml:namespace prefix = st1 ns = "urn:schemas-microsoft-com:office:smarttags" /><st1:City><st1:place><I style="mso-bidi-font-style: normal"><SPAN style="FONT-FAMILY: Arial\; FONT-SIZE: 10pt"></SPAN></I></st1:place></st1:City></FONT></STRONG></P><STRONG><FONT color=#000000><st1:City><st1:place><I style="mso-bidi-font-style: normal"><SPAN style="FONT-FAMILY: Arial\; FONT-SIZE: 10pt"></SPAN></I></st1:place></st1:City></FONT></STRONG>&nbsp\;<P></P><P style="MARGIN: 0in 0in 0pt" class=MsoNormal><P style="MARGIN: 0in 0in 0pt" class=MsoNormal><FONT color=#000000><SPAN style="FONT-FAMILY: Arial\; FONT-SIZE: 10pt"></SPAN></FONT></P><FONT color=#000000><SPAN style="FONT-FAMILY: Arial\; FONT-SIZE: 10pt"></SPAN></FONT><P></P><P style="MARGIN: 0in 0in 0pt" class=MsoNormal><SPAN style="FONT-FAMILY: Arial\; FONT-SIZE: 10pt"><FONT size=3><STRONG><FONT color=#008000><o:p></o:p></FONT></STRONG></FONT></SPAN>&nbsp\;</P><P class=MsoNormal></FONT></FONT></FONT></P></DIV>
LOCATION:Institution for Savings Lending Center
UID:e.1189.1496
SEQUENCE:3
DTSTAMP:20260421T065934Z
URL:https://business.newburyportchamber.org/events/details/business-educational-seminar-effective-networking-04-14-2010-1496
END:VEVENT

END:VCALENDAR
