BEGIN:VCALENDAR
VERSION:2.0
PRODID:-//ChamberMaster//Event Calendar 2.0//EN
METHOD:PUBLISH
X-PUBLISHED-TTL:P3D
REFRESH-INTERVAL:P3D
CALSCALE:GREGORIAN
BEGIN:VEVENT
DTSTART:20100908T040000Z
DTEND:20100908T040000Z
X-MICROSOFT-CDO-ALLDAYEVENT:FALSE
SUMMARY:Business Educational Seminar - Data Security Law Update
DESCRIPTION:Data Security Law Update Sponsored by Institution for Savings  The law requires ALL Massachusetts companies to implement a Data Security Plan.  This law went into effect on March 1\, 2010.  Are you in compliance yet?  Bring your questions or concerns about how to get there or just get a check-up on how you are doing so far if you have implemeted a plan. The MA Data Security Law requires ALL companies – large or small – holding in any form: a MA citizen’s name combined with any one of the following: credit card number\, social security number\, driver’s license number/state issued ID\, OR financial information/account number to protect it according to stringent laws. The state of MA can issue substantial financial penalties for non –compliance. Whether you are a business of 1 or 1\,000 you should be aware of this!  Presented by Laurie LaBrie of Integrated Human Resources\, Inc. 7:45AM Registration\, Coffee & Networking8:05 AM Presentation BeginsMembers: $15 AdmissionNon Members: $25 Admission Coffee will be served. Location: Institution for Savings Lending Center\, 93 State Street\, enter from Prospect Street entrance.* Please do not park in bank parking lot\, park on street or in municipal lot.
X-ALT-DESC;FMTTYPE=text/html:<DIV><P class=MsoNormal><FONT color=#0f0f0f></FONT><P class=MsoNormal><FONT color=#0f0f0f face="Times New Roman"><SPAN style="FONT-SIZE: 12pt"></SPAN></FONT></P><FONT face=Arial><FONT size=2><FONT color=#ff0000 size=3><P style="MARGIN: 0in 0in 0pt" class=MsoNormal><SPAN style="FONT-FAMILY: Arial\; FONT-SIZE: 10pt"><FONT color=#000000></P><P style="MARGIN: 0in 0in 0pt" class=MsoNormal><P style="MARGIN: 0in 0in 0pt" class=MsoNormal><SPAN style="FONT-FAMILY: Calibri"><FONT size=3><STRONG>Data Security Law Update</STRONG></FONT></SPAN></P><P style="MARGIN: 0in 0in 0pt" class=MsoNormal><SPAN style="FONT-FAMILY: Calibri"></SPAN><SPAN style="FONT-FAMILY: Calibri"><SPAN style="FONT-FAMILY: Arial\; FONT-SIZE: 10pt"><FONT color=#0f0f0f size=3 face=calibri></FONT></SPAN></SPAN>&nbsp\;</P><P style="MARGIN: 0in 0in 0pt" class=MsoNormal><SPAN style="FONT-FAMILY: Calibri"><SPAN style="FONT-FAMILY: Arial\; FONT-SIZE: 10pt"><FONT color=#0f0f0f size=3 face=calibri><STRONG><A style="COLOR: blue\; TEXT-DECORATION: underline" title="" dataFld=0:0 href="http://www.institutionforsavings.com" target=_NewWindow>Sponsored by Institution for Savings</A> </STRONG></FONT></SPAN></SPAN></P><SPAN style="FONT-FAMILY: Calibri"><SPAN style="FONT-FAMILY: Arial\; FONT-SIZE: 10pt"><FONT color=#0f0f0f size=3 face=Calibri><P style="MARGIN: 0in 0in 0pt" class=MsoNormal><FONT size=3><SPAN style="FONT-FAMILY: Calibri"></SPAN></FONT>&nbsp\;</P><P style="MARGIN: 0in 0in 0pt" class=MsoNormal><FONT size=3><SPAN style="FONT-FAMILY: Calibri">The law requires </SPAN><?xml:namespace prefix = st1 ns = "urn:schemas-microsoft-com:office:smarttags" /><st1:stockticker><SPAN style="FONT-FAMILY: Calibri">ALL</SPAN></st1:stockticker><SPAN style="FONT-FAMILY: Calibri"> </SPAN><st1:State><st1:place><SPAN style="FONT-FAMILY: Calibri">Massachusetts</SPAN></st1:place></st1:State><SPAN style="FONT-FAMILY: Calibri"> companies to implement a Data Security Plan.&nbsp\; This law went into&nbsp\;effect on&nbsp\;</SPAN><FONT color=#000000><st1:date Year="2010" Day="1" Month="3"><SPAN style="COLOR: red"><SPAN style="FONT-FAMILY: Calibri"><FONT color=#0f0f0f>March 1\, 2010</FONT></SPAN></SPAN></st1:date><SPAN><FONT color=#0f0f0f>.</FONT>&nbsp\; <STRONG><EM>Are you in compliance yet?</EM></STRONG>&nbsp\; Bring your questions or concerns about how to get there or just get a check-up on how you are doing so far if you have implemeted a plan.</SPAN></FONT></FONT></P><P style="MARGIN: 0in 0in 0pt" class=MsoNormal><SPAN style="FONT-FAMILY: Calibri"><?xml:namespace prefix = o ns = "urn:schemas-microsoft-com:office:office" /><o:p><FONT size=3>&nbsp\;</FONT></o:p></SPAN></P><P style="MARGIN: 0in 0in 0pt" class=MsoNormal><FONT size=3><SPAN style="FONT-FAMILY: Calibri">The MA Data Security Law requires </SPAN><st1:stockticker><SPAN style="FONT-FAMILY: Calibri">ALL</SPAN></st1:stockticker><SPAN style="FONT-FAMILY: Calibri"> companies – large or small – holding in any form: a MA citizen’s name combined with any one of the following:&nbsp\;credit card number\, social security number\, driver’s license number/state issued ID\, OR financial information/account number to protect it according to stringent laws.<o:p></o:p></SPAN></FONT></P><P style="MARGIN: 0in 0in 0pt" class=MsoNormal><SPAN style="FONT-FAMILY: Calibri"><o:p><FONT size=3>&nbsp\;</FONT></o:p></SPAN></P><P style="MARGIN: 0in 0in 0pt" class=MsoNormal><SPAN style="FONT-FAMILY: Calibri"><FONT size=3>The state of MA can issue <EM><STRONG>substantial financial penalties</STRONG></EM> for non –compliance.&nbsp\;Whether you are a business of 1 or 1\,000 you should be aware of this! </FONT></SPAN></P></FONT></SPAN></SPAN><P style="MARGIN: 0in 0in 0pt" class=MsoNormal><SPAN style="FONT-FAMILY: Calibri"><SPAN style="FONT-FAMILY: Arial\; FONT-SIZE: 10pt"></SPAN></SPAN><SPAN style="FONT-FAMILY: Calibri"><SPAN style="FONT-FAMILY: Arial\; FONT-SIZE: 10pt"><FONT color=#0f0f0f size=3 face=Calibri></FONT></SPAN></SPAN>&nbsp\;</P><P style="MARGIN: 0in 0in 0pt" class=MsoNormal><SPAN style="FONT-FAMILY: Calibri"><SPAN style="FONT-FAMILY: Arial\; FONT-SIZE: 10pt"><FONT color=#0f0f0f size=3 face=Calibri>Presented by Laurie LaBrie of <A style="COLOR: blue\; TEXT-DECORATION: underline" title="" dataFld=0:0 href="http://www.integratedstaffing.com  " target=_NewWindow>Integrated Human Resources\, Inc.</A></FONT></SPAN></SPAN></P><P style="MARGIN: 0in 0in 0pt" class=MsoNormal><SPAN style="FONT-FAMILY: Calibri"><SPAN style="FONT-FAMILY: Arial\; FONT-SIZE: 10pt"><FONT color=#0f0f0f size=3 face=Calibri></FONT></SPAN></SPAN>&nbsp\;</P><P style="MARGIN: 0in 0in 0pt" class=MsoNormal><SPAN style="FONT-FAMILY: Calibri"><o:p><FONT size=3></FONT></o:p></SPAN></P><SPAN style="FONT-FAMILY: Calibri"><FONT size=3><P style="MARGIN: 0in 0in 0pt" class=MsoNormal><SPAN style="FONT-FAMILY: Calibri"><FONT size=3></P><P style="MARGIN: 0in 0in 0pt" class=MsoNormal>7:45AM Registration\, Coffee &amp\; Networking<o:p></o:p></FONT></SPAN></P><P style="MARGIN: 0in 0in 0pt" class=MsoNormal><FONT size=3><SPAN style="FONT-FAMILY: Calibri">8:05 AM Presentation Begins</SPAN></FONT></P></FONT></SPAN><P style="MARGIN: 0in 0in 0pt" class=MsoNormal><P style="MARGIN: 0in 0in 0pt" class=MsoNormal><SPAN style="FONT-FAMILY: Calibri"><FONT size=3></FONT></SPAN></P><SPAN style="FONT-FAMILY: Calibri"><FONT size=3><o:p><SPAN style="FONT-FAMILY: Arial\; FONT-SIZE: 10pt"><FONT size=3><STRONG><FONT color=#008000></FONT></STRONG></FONT></SPAN><P></P><P style="MARGIN: 0in 0in 0pt" class=MsoNormal></o:p></FONT></SPAN><SPAN style="FONT-FAMILY: Calibri"><FONT size=3><STRONG>Members:</STRONG> $15 Admission<o:p></o:p></FONT></SPAN></P><P style="MARGIN: 0in 0in 0pt" class=MsoNormal><SPAN style="FONT-FAMILY: Calibri"><FONT size=3><STRONG>Non Members:</STRONG> $25 Admission<o:p></o:p></FONT></SPAN></P><P style="MARGIN: 0in 0in 0pt" class=MsoNormal><SPAN style="FONT-FAMILY: Calibri"><o:p><FONT size=3>&nbsp\;</FONT></o:p></SPAN></P><P style="MARGIN: 0in 0in 0pt" class=MsoNormal><SPAN style="FONT-FAMILY: Calibri"><FONT size=3>Coffee will be served.<o:p></o:p></FONT></SPAN></P><P style="MARGIN: 0in 0in 0pt" class=MsoNormal>&nbsp\;</P><P style="MARGIN: 0in 0in 0pt" class=MsoNormal><FONT face=calibri><FONT size=3><STRONG>Location:</STRONG> Institution for Savings Lending Center\, 93 State Street\, enter from Prospect Street entrance.</FONT></FONT></FONT></SPAN></P><P style="MARGIN: 0in 0in 0pt" class=MsoNormal><SPAN style="FONT-FAMILY: Arial\; FONT-SIZE: 10pt"><FONT color=#000000><FONT face=calibri><FONT size=3><FONT color=#ff0000><STRONG>*</STRONG></FONT> Please do not park in bank parking lot\, park on street or in municipal lot.</FONT></FONT></FONT></SPAN></P><P style="MARGIN: 0in 0in 0pt" class=MsoNormal>&nbsp\;</P><P style="MARGIN: 0in 0in 0pt" class=MsoNormal><P style="MARGIN: 0in 0in 0pt" class=MsoNormal><STRONG><FONT color=#000000><st1:City><st1:place><I style="mso-bidi-font-style: normal"><SPAN style="FONT-FAMILY: Arial\; FONT-SIZE: 10pt"></SPAN></I></st1:place></st1:City></FONT></STRONG></P><STRONG><FONT color=#000000><st1:City><st1:place><I style="mso-bidi-font-style: normal"><SPAN style="FONT-FAMILY: Arial\; FONT-SIZE: 10pt"></SPAN></I></st1:place></st1:City></FONT></STRONG>&nbsp\;<P></P><P style="MARGIN: 0in 0in 0pt" class=MsoNormal><P style="MARGIN: 0in 0in 0pt" class=MsoNormal><FONT color=#000000><SPAN style="FONT-FAMILY: Arial\; FONT-SIZE: 10pt"></SPAN></FONT></P><FONT color=#000000><SPAN style="FONT-FAMILY: Arial\; FONT-SIZE: 10pt"></SPAN></FONT><P></P><P style="MARGIN: 0in 0in 0pt" class=MsoNormal><SPAN style="FONT-FAMILY: Arial\; FONT-SIZE: 10pt"><FONT size=3><STRONG><FONT color=#008000><o:p></o:p></FONT></STRONG></FONT></SPAN>&nbsp\;</P><P class=MsoNormal></FONT></FONT></FONT></P></DIV>
LOCATION:Institution for Savings Lending Center
UID:e.1189.1501
SEQUENCE:3
DTSTAMP:20260420T175109Z
URL:https://business.newburyportchamber.org/events/details/business-educational-seminar-data-security-law-update-09-08-2010-1501
END:VEVENT

END:VCALENDAR
