BEGIN:VCALENDAR
VERSION:2.0
PRODID:-//ChamberMaster//Event Calendar 2.0//EN
METHOD:PUBLISH
X-PUBLISHED-TTL:P3D
REFRESH-INTERVAL:P3D
CALSCALE:GREGORIAN
BEGIN:VEVENT
DTSTART:20100217T050000Z
DTEND:20100217T050000Z
X-MICROSOFT-CDO-ALLDAYEVENT:FALSE
SUMMARY:Business Educational Seminar - Data Security
DESCRIPTION:Data Security Law got you feeling overwhelmed?Are you even aware of this new law? NEW LOCATION: Newburyport Public Library Community Room\, 94 State Street** Please enter through back door off Prince Place.  The clock is ticking. The law requires ALL Massachusetts companies to implement a Data Security Plan by March 1\, 2010. The MA Data Security Law requires ALL companies – large or small – holding in any form: a MA citizen’s name combined with any one of the following: credit card number\, social security number\, driver’s license number/state issued ID\, OR financial information/account number to protect it according to stringent laws. The state of MA will issue substantial financial penalties for non –compliance. You can’t afford not to attend this seminar!  Whether you are a business of 1 or 1\,000 you should be here!  February 17th Registration 7:45 AMSeminar begins at 8:00 AM Presented by Laurie LaBrie\, Integrated Staffing Sponsored by Institution for Savings Members: $15 AdmissionNon Members: $25 Admission Coffee will be served.
X-ALT-DESC;FMTTYPE=text/html:<DIV><P class=MsoNormal><FONT color=#0f0f0f></FONT><P class=MsoNormal><FONT color=#0f0f0f face="Times New Roman"><SPAN style="FONT-SIZE: 12pt"></SPAN></FONT></P><FONT face=Arial><FONT size=2><FONT color=#ff0000 size=3><P style="MARGIN: 0in 0in 0pt" class=MsoNormal><SPAN style="FONT-FAMILY: Arial\; FONT-SIZE: 10pt"><FONT color=#000000><B style="mso-bidi-font-weight: normal"><SPAN style="FONT-FAMILY: Calibri\; COLOR: red\; FONT-SIZE: 14pt">Data Security Law got you feeling overwhelmed?<?xml:namespace prefix = o ns = "urn:schemas-microsoft-com:office:office" /><o:p></o:p></SPAN></B></P><P style="MARGIN: 0in 0in 0pt" class=MsoNormal><B style="mso-bidi-font-weight: normal"><SPAN style="FONT-FAMILY: Calibri\; COLOR: red\; FONT-SIZE: 14pt">Are you even aware of this new law?</SPAN></B></P><P style="MARGIN: 0in 0in 0pt" class=MsoNormal><B style="mso-bidi-font-weight: normal"><SPAN style="FONT-FAMILY: Calibri\; COLOR: red\; FONT-SIZE: 14pt"><o:p></o:p></SPAN></B>&nbsp\;</P><SPAN style="FONT-FAMILY: Calibri"><o:p><FONT size=3><P style="MARGIN: 0in 0in 0pt" class=MsoNormal><SPAN style="FONT-FAMILY: Arial\; FONT-SIZE: 10pt"><FONT color=#0000ff><STRONG><FONT color=#ff0000>NEW LOCATION:</FONT></STRONG> <STRONG>Newburyport Public Library Community Room\, 94 State Street</STRONG></FONT></SPAN></P><P style="MARGIN: 0in 0in 0pt" class=MsoNormal><SPAN style="FONT-FAMILY: Arial\; FONT-SIZE: 10pt"><STRONG><FONT color=#0000ff><FONT size=4>** </FONT>Please enter through back door off Prince Place.</FONT></STRONG></SPAN>&nbsp\;</P><P style="MARGIN: 0in 0in 0pt" class=MsoNormal></FONT></o:p></SPAN>&nbsp\;</P><P style="MARGIN: 0in 0in 0pt" class=MsoNormal><FONT size=3><SPAN style="FONT-FAMILY: Calibri">The clock is ticking. The law requires </SPAN><?xml:namespace prefix = st1 ns = "urn:schemas-microsoft-com:office:smarttags" /><st1:stockticker><SPAN style="FONT-FAMILY: Calibri">ALL</SPAN></st1:stockticker><SPAN style="FONT-FAMILY: Calibri"> </SPAN><st1:State><st1:place><SPAN style="FONT-FAMILY: Calibri">Massachusetts</SPAN></st1:place></st1:State><SPAN style="FONT-FAMILY: Calibri"> companies to implement a Data Security Plan by </SPAN><st1:date Year="2010" Day="1" Month="3"><B style="mso-bidi-font-weight: normal"><SPAN style="COLOR: red"><SPAN style="FONT-FAMILY: Calibri">March 1\, 2010</SPAN></SPAN></B></st1:date><B style="mso-bidi-font-weight: normal"><SPAN style="FONT-FAMILY: Calibri\; COLOR: red">.</SPAN></B><SPAN style="FONT-FAMILY: Calibri"><o:p></o:p></SPAN></FONT></P><P style="MARGIN: 0in 0in 0pt" class=MsoNormal><SPAN style="FONT-FAMILY: Calibri"><o:p><FONT size=3>&nbsp\;</FONT></o:p></SPAN></P><P style="MARGIN: 0in 0in 0pt" class=MsoNormal><FONT size=3><SPAN style="FONT-FAMILY: Calibri">The MA Data Security Law requires </SPAN><st1:stockticker><SPAN style="FONT-FAMILY: Calibri">ALL</SPAN></st1:stockticker><SPAN style="FONT-FAMILY: Calibri"> companies – large or small – holding in any form: a MA citizen’s name combined with any one of the following:&nbsp\;credit card number\, social security number\, driver’s license number/state issued ID\, OR financial information/account number to protect it according to stringent laws.<o:p></o:p></SPAN></FONT></P><P style="MARGIN: 0in 0in 0pt" class=MsoNormal><SPAN style="FONT-FAMILY: Calibri"><o:p><FONT size=3>&nbsp\;</FONT></o:p></SPAN></P><P style="MARGIN: 0in 0in 0pt" class=MsoNormal><SPAN style="FONT-FAMILY: Calibri"><FONT size=3>The state of MA will issue <EM><STRONG>substantial financial penalties</STRONG></EM> for non –compliance. You can’t afford not to attend this seminar!<SPAN style="mso-spacerun: yes">&nbsp\; </SPAN>Whether you are a business of 1 or 1\,000 you should be here! </FONT></SPAN></P><P style="MARGIN: 0in 0in 0pt" class=MsoNormal><SPAN style="FONT-FAMILY: Calibri"><FONT size=3></FONT></SPAN>&nbsp\;</P><P style="MARGIN: 0in 0in 0pt" class=MsoNormal><SPAN style="FONT-FAMILY: Calibri"><FONT size=3>February 17th</FONT></SPAN></P><P style="MARGIN: 0in 0in 0pt" class=MsoNormal><SPAN style="FONT-FAMILY: Calibri"><FONT size=3><o:p></o:p></FONT></SPAN>&nbsp\;</P><P style="MARGIN: 0in 0in 0pt" class=MsoNormal><SPAN style="FONT-FAMILY: Calibri"><o:p><FONT size=3></FONT></o:p></SPAN></P><SPAN style="FONT-FAMILY: Calibri"><FONT size=3><P style="MARGIN: 0in 0in 0pt" class=MsoNormal>Registration 7:45 AM<o:p></o:p></FONT></SPAN></P><P style="MARGIN: 0in 0in 0pt" class=MsoNormal><FONT size=3><SPAN style="FONT-FAMILY: Calibri">Seminar begins at </SPAN><st1:time Hour="8" Minute="0"><SPAN style="FONT-FAMILY: Calibri">8:00 AM</SPAN></st1:time><SPAN style="FONT-FAMILY: Calibri"><o:p></o:p></SPAN></FONT></P><P style="MARGIN: 0in 0in 0pt" class=MsoNormal><SPAN style="FONT-FAMILY: Calibri"><FONT size=3></FONT></SPAN>&nbsp\;</P><P style="MARGIN: 0in 0in 0pt" class=MsoNormal><SPAN style="FONT-FAMILY: Calibri"><FONT size=3>Presented by Laurie LaBrie\, <A style="COLOR: blue\; TEXT-DECORATION: underline" title="" dataFld=0:0 href="http://integratedstaffing.com" target=_NewWindow>Integrated Staffing</A></FONT></SPAN></P><SPAN style="FONT-FAMILY: Calibri"><FONT size=3><o:p><P style="MARGIN: 0in 0in 0pt" class=MsoNormal><SPAN style="FONT-FAMILY: Arial\; FONT-SIZE: 10pt"><FONT size=3><STRONG><FONT color=#008000></FONT></STRONG></FONT></SPAN>&nbsp\;</P><P style="MARGIN: 0in 0in 0pt" class=MsoNormal><SPAN style="FONT-FAMILY: Arial\; FONT-SIZE: 10pt"><FONT size=3><STRONG><A style="COLOR: blue\; TEXT-DECORATION: underline" title="" dataFld=0:0 href="http://institutionforsavings.com/" target=_NewWindow><FONT color=#008000>Sponsored by Institution for Savings<o:p></o:p></FONT></A></STRONG></FONT></SPAN></P></o:p></FONT></SPAN><P style="MARGIN: 0in 0in 0pt" class=MsoNormal><SPAN style="FONT-FAMILY: Calibri"><o:p><FONT size=3>&nbsp\;</FONT></o:p></SPAN></P><P style="MARGIN: 0in 0in 0pt" class=MsoNormal><SPAN style="FONT-FAMILY: Calibri"><FONT size=3><STRONG>Members:</STRONG> $15 Admission<o:p></o:p></FONT></SPAN></P><P style="MARGIN: 0in 0in 0pt" class=MsoNormal><SPAN style="FONT-FAMILY: Calibri"><FONT size=3><STRONG>Non Members:</STRONG> $25 Admission<o:p></o:p></FONT></SPAN></P><P style="MARGIN: 0in 0in 0pt" class=MsoNormal><SPAN style="FONT-FAMILY: Calibri"><o:p><FONT size=3>&nbsp\;</FONT></o:p></SPAN></P><P style="MARGIN: 0in 0in 0pt" class=MsoNormal><SPAN style="FONT-FAMILY: Calibri"><FONT size=3>Coffee will be served.<o:p></o:p></FONT></SPAN></P><P style="MARGIN: 0in 0in 0pt" class=MsoNormal></FONT></SPAN><SPAN style="FONT-FAMILY: Arial\; FONT-SIZE: 10pt"><STRONG><FONT color=#ff0000></FONT></STRONG></SPAN>&nbsp\;</P><P style="MARGIN: 0in 0in 0pt" class=MsoNormal><P style="MARGIN: 0in 0in 0pt" class=MsoNormal><STRONG><FONT color=#000000><st1:City><st1:place><I style="mso-bidi-font-style: normal"><SPAN style="FONT-FAMILY: Arial\; FONT-SIZE: 10pt"></SPAN></I></st1:place></st1:City></FONT></STRONG></P><STRONG><FONT color=#000000><st1:City><st1:place><I style="mso-bidi-font-style: normal"><SPAN style="FONT-FAMILY: Arial\; FONT-SIZE: 10pt"></SPAN></I></st1:place></st1:City></FONT></STRONG>&nbsp\;<P></P><P style="MARGIN: 0in 0in 0pt" class=MsoNormal><P style="MARGIN: 0in 0in 0pt" class=MsoNormal><FONT color=#000000><SPAN style="FONT-FAMILY: Arial\; FONT-SIZE: 10pt"></SPAN></FONT></P><FONT color=#000000><SPAN style="FONT-FAMILY: Arial\; FONT-SIZE: 10pt"></SPAN></FONT><P></P><P style="MARGIN: 0in 0in 0pt" class=MsoNormal><SPAN style="FONT-FAMILY: Arial\; FONT-SIZE: 10pt"><FONT size=3><STRONG><FONT color=#008000><o:p></o:p></FONT></STRONG></FONT></SPAN>&nbsp\;</P><P class=MsoNormal></FONT></FONT></FONT></P></DIV>
LOCATION:Newburyport Public Library Community Room
UID:e.1189.1488
SEQUENCE:3
DTSTAMP:20260421T100047Z
URL:https://business.newburyportchamber.org/events/details/business-educational-seminar-data-security-02-17-2010-1488
END:VEVENT

END:VCALENDAR
