BEGIN:VCALENDAR
VERSION:2.0
PRODID:-//ChamberMaster//Event Calendar 2.0//EN
METHOD:PUBLISH
X-PUBLISHED-TTL:P3D
REFRESH-INTERVAL:P3D
CALSCALE:GREGORIAN
BEGIN:VEVENT
DTSTART:20100714T040000Z
DTEND:20100714T040000Z
X-MICROSOFT-CDO-ALLDAYEVENT:FALSE
SUMMARY:Business Educational Seminar
DESCRIPTION:Tips for Controlling and Understanding Your Company's Runaway Health Insurance Premiums  Sponsored by: \nNewburyport Five Cents Savings Bank "All things being equal"\, health insurance costs will continue to rise at an unaffordable pace.  You can't afford to wait for State and Federal reforms to solve these problems!  What can you do to prevent higher costs of your health and employee benefits? This seminar will focus on practical steps that business owners can take to control their health care costs in this changing and uncertain environment.  We will also clear up some of the confusion and uncertainty created by recent events at the State and Federal levels.How does Health Care Reform Impact your business today and beyond?   Reducing Cost \, Not Quality of your employee benefit program What is the latest from the Massachusetts Department of Insurance regarding Runaway Premiums? If you think your health care rates are all set...think again... what you must know to prepare for your mid year increase!Presented by:\nPatrick McCormick and Ed Bleiler\nof Baystate Financial Service  7:45AM Registration\, Coffee & Networking8:05 AM Presentation Begins Members: $15 AdmissionNon Members: $25 Admission Coffee will be served. Location: \nNewburyport Five Cents Savings Bank\n63 State Street\, Newburyport(Please do not park in bank parking lot\, \npark on street or in municipal lot)
X-ALT-DESC;FMTTYPE=text/html:<DIV><P class=MsoNormal><FONT color=#0f0f0f></FONT><P class=MsoNormal><FONT color=#0f0f0f face="Times New Roman"><SPAN style="FONT-SIZE: 12pt"></SPAN></FONT></P><FONT face=Arial><FONT size=2><FONT size=3><P style="MARGIN: 0in 0in 0pt" class=MsoNormal><FONT color=#0f0f0f></FONT><SPAN style="FONT-FAMILY: Arial\; FONT-SIZE: 10pt"></P><P style="MARGIN: 0in 0in 0pt" class=MsoNormal><P style="MARGIN: 0in 0in 0pt" class=MsoNormal><SPAN style="FONT-FAMILY: Calibri"><FONT color=#0f0f0f><FONT size=4><STRONG>Tips for Controlling and Understanding Your Company's Runaway Health Insurance Premiums</STRONG> </FONT></FONT></SPAN></P><P style="MARGIN: 0in 0in 0pt" class=MsoNormal><SPAN style="FONT-FAMILY: Calibri"></SPAN>&nbsp\;</P><P style="MARGIN: 0in 0in 0pt" class=MsoNormal><SPAN style="FONT-FAMILY: Calibri"></SPAN><SPAN style="FONT-FAMILY: Calibri"><FONT color=#0f0f0f><FONT size=3><STRONG>Sponsored by:</STRONG> <BR><A style="COLOR: blue\; TEXT-DECORATION: underline" title="" dataFld=0:0 href="http://www.newburyportbank.com/" target=_NewWindow><FONT color=#000000>Newburyport Five Cents Savings Bank</FONT></A></FONT></FONT></SPAN></P><P style="MARGIN: 0in 0in 0pt" class=MsoNormal><SPAN style="FONT-FAMILY: Calibri"><FONT color=#0f0f0f size=3></FONT></SPAN>&nbsp\;</P><P style="MARGIN: 0in 0in 0pt" class=MsoNormal><SPAN style="FONT-FAMILY: Calibri"><FONT color=#0f0f0f size=3>"All things being equal"\, health insurance costs will continue to rise at an unaffordable pace.&nbsp\; You can't afford to wait for State and Federal reforms to solve these problems!&nbsp\; What can you do to prevent higher costs of your health and employee benefits? This seminar will focus on practical steps that business owners can take to control their health care costs in this changing and uncertain environment. </FONT></SPAN></P><P style="MARGIN: 0in 0in 0pt" class=MsoNormal><SPAN style="FONT-FAMILY: Calibri"><FONT color=#0f0f0f size=3></FONT></SPAN>&nbsp\;</P><P style="MARGIN: 0in 0in 0pt" class=MsoNormal><SPAN style="FONT-FAMILY: Calibri"><FONT color=#0f0f0f size=3>We will also clear up some of the confusion and uncertainty created by recent events at the State and Federal levels.</FONT></SPAN></P><SPAN style="FONT-FAMILY: Calibri"><FONT color=#0f0f0f size=3><UL><LI><DIV style="MARGIN: 0in 0in 0pt" class=MsoNormal>How does Health Care Reform Impact your business today and beyond?&nbsp\;&nbsp\;&nbsp\;</DIV><LI><DIV style="MARGIN: 0in 0in 0pt" class=MsoNormal></FONT></SPAN><SPAN style="FONT-FAMILY: Calibri"><FONT color=#0f0f0f size=3>Reducing Cost \, Not Quality of your employee benefit program&nbsp\;</FONT></SPAN></DIV><LI><DIV style="MARGIN: 0in 0in 0pt" class=MsoNormal><SPAN style="FONT-FAMILY: Calibri"><FONT color=#0f0f0f size=3>What is the latest from the Massachusetts Department of Insurance regarding Runaway Premiums?&nbsp\;</FONT></SPAN></DIV><LI><DIV style="MARGIN: 0in 0in 0pt" class=MsoNormal><SPAN style="FONT-FAMILY: Calibri"><FONT color=#0f0f0f size=3>If you think your health care rates are all set...think again... what you must know to prepare for your mid year increase!</FONT></SPAN></DIV></LI></UL><P></P><P style="MARGIN: 0in 0in 0pt" class=MsoNormal><SPAN style="FONT-FAMILY: Calibri"><?xml:namespace prefix = o ns = "urn:schemas-microsoft-com:office:office" /><o:p><FONT color=#0f0f0f size=3></FONT></o:p></SPAN></P><SPAN style="FONT-FAMILY: Calibri"><FONT size=3><P style="MARGIN: 0in 0in 0pt" class=MsoNormal><FONT color=#0f0f0f></FONT><SPAN style="FONT-FAMILY: Calibri"><FONT size=3></P><P style="MARGIN: 0in 0in 0pt" class=MsoNormal><FONT color=#0f0f0f><SPAN style="FONT-FAMILY: Calibri"><FONT color=#0f0f0f size=3><STRONG>Presented by:<BR></STRONG>Patrick McCormick and Ed Bleiler<BR>of <A style="COLOR: blue\; TEXT-DECORATION: underline" title="" dataFld=0:0 href="http://www.baystatefinancial.com/" target=_NewWindow><FONT color=#000000>Baystate Financial Service</FONT></A> </FONT></SPAN></FONT></P><P style="MARGIN: 0in 0in 0pt" class=MsoNormal><FONT color=#0f0f0f><SPAN style="FONT-FAMILY: Calibri"></SPAN></FONT>&nbsp\;</P><P style="MARGIN: 0in 0in 0pt" class=MsoNormal><FONT color=#0f0f0f>7:45AM Registration\, Coffee &amp\; Networking<o:p></o:p></FONT></FONT></SPAN></P><P style="MARGIN: 0in 0in 0pt" class=MsoNormal><FONT color=#0f0f0f size=3><SPAN style="FONT-FAMILY: Calibri">8:05 AM Presentation Begins</SPAN></FONT></FONT></SPAN><SPAN style="FONT-FAMILY: Calibri"><FONT size=3><o:p></P></o:p></FONT></SPAN><P style="MARGIN: 0in 0in 0pt" class=MsoNormal><SPAN style="FONT-FAMILY: Calibri"><o:p><FONT color=#0f0f0f size=3>&nbsp\;</FONT></o:p></SPAN></P><P style="MARGIN: 0in 0in 0pt" class=MsoNormal><SPAN style="FONT-FAMILY: Calibri"><FONT size=3><FONT color=#0f0f0f><STRONG>Members:</STRONG> $15 Admission<o:p></o:p></FONT></FONT></SPAN></P><P style="MARGIN: 0in 0in 0pt" class=MsoNormal><SPAN style="FONT-FAMILY: Calibri"><FONT size=3><FONT color=#0f0f0f><STRONG>Non Members:</STRONG> $25 Admission<o:p></o:p></FONT></FONT></SPAN></P><P style="MARGIN: 0in 0in 0pt" class=MsoNormal><SPAN style="FONT-FAMILY: Calibri"><o:p><FONT color=#0f0f0f size=3>&nbsp\;</FONT></o:p></SPAN></P><P style="MARGIN: 0in 0in 0pt" class=MsoNormal><SPAN style="FONT-FAMILY: Calibri"><FONT size=3><FONT color=#0f0f0f>Coffee will be served.<o:p></o:p></FONT></FONT></SPAN></P><P style="MARGIN: 0in 0in 0pt" class=MsoNormal><FONT color=#0f0f0f></FONT>&nbsp\;</P><P style="MARGIN: 0in 0in 0pt" class=MsoNormal><FONT color=#0f0f0f><FONT face=Calibri><FONT size=3><STRONG>Location:</STRONG> <BR>Newburyport Five Cents Savings Bank<BR>63 State Street\, Newburyport</FONT></FONT></FONT></SPAN></P><P style="MARGIN: 0in 0in 0pt" class=MsoNormal><SPAN style="FONT-FAMILY: Arial\; FONT-SIZE: 10pt"><FONT color=#0f0f0f><FONT face=Calibri><FONT size=3>(Please do not park in bank parking lot\, <BR>park on street or in municipal lot)</FONT></FONT></FONT></SPAN></P><P style="MARGIN: 0in 0in 0pt" class=MsoNormal><FONT color=#0f0f0f></FONT></FONT></FONT></FONT>&nbsp\;</P></DIV>
LOCATION:Newburyport Five Cents Savings Bank
UID:e.1189.1529
SEQUENCE:3
DTSTAMP:20260421T025709Z
URL:https://business.newburyportchamber.org/events/details/business-educational-seminar-07-14-2010-1529
END:VEVENT

END:VCALENDAR
