BEGIN:VCALENDAR
VERSION:2.0
PRODID:-//ChamberMaster//Event Calendar 2.0//EN
METHOD:PUBLISH
X-PUBLISHED-TTL:P3D
REFRESH-INTERVAL:P3D
CALSCALE:GREGORIAN
BEGIN:VEVENT
DTSTART:20090401T040000Z
DTEND:20090401T040000Z
X-MICROSOFT-CDO-ALLDAYEVENT:FALSE
SUMMARY:Business Development Educational Series - Marketing
DESCRIPTION:Marketing Your Business: Small Budgets\, Big Ideas!An Informative & Interactive Panel Discussion\nSponsored by Institution for Savings Wednesday\, April 17:45am – 9:30amPublicity\, Creativity & Planning - the importance of each of these elements to be successful\n\nJoin us for an informative and interactive panel discussion on why now more than ever it is important to maintain your presence in the marketplace. You will be given some concrete\, creative ideas on how to effectively market your business and learn some cost effective techniques as well! Bring samples of your marketing material (brochures\, menus\, etc..) for review.\nPlanning on attending?  Send us your questions beforehand!Panel:\nJeff Bard\, Bard Integrated Marketing\nMary Anne Clancy\, Institution for Savings\nDan Duval\, McDougall & Duval AdvertisingLocation: Institution for Savings Lending Center93 State StreetEnter through Prospect Street entrancePlease park on Strate Street or municipal lot near library. Members: Free AdmissionNon Members: $20
X-ALT-DESC;FMTTYPE=text/html:<DIV><P class=MsoNormal><FONT color=#0f0f0f></FONT><P class=MsoNormal><FONT face="Times New Roman" color=#0f0f0f><SPAN style="FONT-SIZE: 12pt"></SPAN></FONT></P><FONT face=Arial><FONT size=2><FONT color=#ff0000 size=3><P class=MsoNormal style="MARGIN: 0in 0in 0pt"><SPAN style="FONT-SIZE: 10pt\; FONT-FAMILY: Arial"><STRONG><FONT color=#ff0000 size=3>Marketing Your Business: Small Budgets\, Big Ideas!</FONT></STRONG></SPAN></P><P class=MsoNormal style="MARGIN: 0in 0in 0pt"><SPAN style="FONT-SIZE: 10pt\; FONT-FAMILY: Arial"><STRONG><FONT size=3><FONT face=Georgia color=#663300>An Informative &amp\; Interactive Panel Discussion</FONT><BR></P><P class=MsoNormal style="MARGIN: 0in 0in 0pt"><SPAN style="FONT-SIZE: 10pt\; FONT-FAMILY: Arial"><STRONG><FONT color=#008000 size=3>Sponsored by Institution for Savings</FONT></STRONG></SPAN></P><P class=MsoNormal style="MARGIN: 0in 0in 0pt"><SPAN style="FONT-SIZE: 10pt\; FONT-FAMILY: Arial"><FONT size=3><STRONG><FONT color=#008000><?xml:namespace prefix = o ns = "urn:schemas-microsoft-com:office:office" /><o:p></o:p></FONT></STRONG></FONT></SPAN>&nbsp\;</P></FONT></STRONG></SPAN><P class=MsoNormal style="MARGIN: 0in 0in 0pt"><SPAN style="FONT-SIZE: 10pt\; FONT-FAMILY: Arial"><FONT color=#000000>Wednesday\, April 1</FONT></SPAN></P><P class=MsoNormal style="MARGIN: 0in 0in 0pt"><FONT color=#000000><?xml:namespace prefix = st1 ns = "urn:schemas-microsoft-com:office:smarttags" /><st1:time Hour="7" Minute="45"><SPAN style="FONT-SIZE: 10pt\; FONT-FAMILY: Arial">7:45am – 9:30am</SPAN></st1:time><SPAN style="FONT-SIZE: 10pt\; FONT-FAMILY: Arial"><o:p></o:p></SPAN></FONT></P><SPAN style="FONT-SIZE: 10pt\; FONT-FAMILY: Arial"><FONT color=#000000><P align=left><FONT face=Georgia color=#663300 size=2><B>Publicity\, Creativity &amp\; Planning - the importance of each of these&nbsp\;elements to be successful<BR></B></FONT><FONT face=Georgia color=#663300 size=2><B><BR></B>Join us for an informative and interactive panel discussion on why <U>now more than ever</U> it is important to maintain your presence in the marketplace. You will be given some concrete\, creative ideas on how to effectively market your business and learn some cost effective techniques as well!&nbsp\;</FONT></P><P align=left><FONT face=Georgia color=#663300>Bring samples&nbsp\;of your marketing&nbsp\;material (brochures\, menus\, etc..) for review.<BR><STRONG><EM>Planning on attending?&nbsp\; Send us your questions beforehand!</EM></STRONG></FONT></P><P align=left><FONT face=Georgia color=#663300 size=2><B>Panel:<BR></B>Jeff Bard\, Bard Integrated Marketing<BR>Mary Anne Clancy\, </FONT><A href="http://www.institutionforsavings.com"><FONT face=Georgia color=#663300 size=2>Institution for Savings</FONT></A><FONT face=Georgia color=#663300 size=2><BR>Dan Duval\, </FONT><A href="http://www.thatsthebigidea.com"><FONT face=Georgia color=#663300 size=2>McDougall &amp\; Duval Advertising</FONT></A></FONT></SPAN></P><P class=MsoNormal style="MARGIN: 0in 0in 0pt"><SPAN style="FONT-SIZE: 10pt\; FONT-FAMILY: Arial"><FONT color=#000000><STRONG>Location:</STRONG> </FONT></SPAN></P><P class=MsoNormal style="MARGIN: 0in 0in 0pt"><SPAN style="FONT-SIZE: 10pt\; FONT-FAMILY: Arial"><FONT color=#000000>Institution for Savings Lending Center</FONT></SPAN></P><P class=MsoNormal style="MARGIN: 0in 0in 0pt"><SPAN style="FONT-SIZE: 10pt\; FONT-FAMILY: Arial"><FONT color=#000000>93 State Street</FONT></SPAN></P><P class=MsoNormal style="MARGIN: 0in 0in 0pt"><SPAN style="FONT-SIZE: 10pt\; FONT-FAMILY: Arial"><FONT color=#000000>Enter through Prospect Street entrance</FONT></SPAN></P><P class=MsoNormal style="MARGIN: 0in 0in 0pt"><FONT size=2>Please park on Strate Street or municipal&nbsp\;lot near library.</FONT></P><P class=MsoNormal style="MARGIN: 0in 0in 0pt">&nbsp\;</P><P class=MsoNormal style="MARGIN: 0in 0in 0pt"><SPAN style="FONT-SIZE: 10pt\; FONT-FAMILY: Arial"><o:p><FONT color=#000000><STRONG><EM>Members: Free Admission</EM></STRONG></FONT></o:p></SPAN></P><P class=MsoNormal style="MARGIN: 0in 0in 0pt"><SPAN style="FONT-SIZE: 10pt\; FONT-FAMILY: Arial"><o:p></o:p></SPAN></P><P class=MsoNormal style="MARGIN: 0in 0in 0pt"><STRONG><FONT color=#000000><st1:City><st1:place><I style="mso-bidi-font-style: normal"><SPAN style="FONT-SIZE: 10pt\; FONT-FAMILY: Arial">Non Members: $20</SPAN></I></st1:place></st1:City></FONT></STRONG></P><P class=MsoNormal style="MARGIN: 0in 0in 0pt"><STRONG><FONT color=#000000><st1:City><st1:place><I style="mso-bidi-font-style: normal"><SPAN style="FONT-SIZE: 10pt\; FONT-FAMILY: Arial"></SPAN></I></st1:place></st1:City></FONT></STRONG>&nbsp\;</P><P class=MsoNormal style="MARGIN: 0in 0in 0pt"><SPAN style="FONT-SIZE: 10pt\; FONT-FAMILY: Arial"></SPAN></FONT></FONT></FONT>&nbsp\;</P></DIV>
LOCATION:Institution for Savings Lending Center
UID:e.1189.1192
SEQUENCE:3
DTSTAMP:20260422T041601Z
URL:https://business.newburyportchamber.org/events/details/business-development-educational-series-marketing-04-01-2009-1192
END:VEVENT

END:VCALENDAR
