BEGIN:VCALENDAR
VERSION:2.0
PRODID:-//ChamberMaster//Event Calendar 2.0//EN
METHOD:PUBLISH
X-PUBLISHED-TTL:P3D
REFRESH-INTERVAL:P3D
CALSCALE:GREGORIAN
BEGIN:VEVENT
DTSTART:20090128T050000Z
DTEND:20090128T050000Z
X-MICROSOFT-CDO-ALLDAYEVENT:FALSE
SUMMARY:Business Development Educational Series
DESCRIPTION:1/28/09 NEW DATE!\nThis event was previously scheduled for January 7th but was rescheduled to the 28th due to inclement weather.Creative Business Thinking in Tough Economic Times\nDuring this economic downturn\, come and listen to a panel of your chamber peers from a cross section of businesses. Business perspectives\, ideas and lessons learned will be shared with all.\n\nSponsored by: Institution for SavingsModerator:\nDoris Roach\, Executive Coach & Management ConsultantPanel:\nNils Menten\, President\, iMarc\nJim Rogers\, Manager/Chef\, Michael's Harborside\nDr. Michael Strem\, President\, Strem Chemicals\nKaren MacCormack\, Senior VP\, Commercial Lending and David Boudreau\, VP\, Commercial lending\, Institution for SavingsLocation:\nInstitution for Savings Loan Center\n93 State Street\, Newburyport\n*please use Prospect Street entrance
X-ALT-DESC;FMTTYPE=text/html:<DIV><P class=MsoNormal><FONT color=#0f0f0f></FONT><P class=MsoNormal><FONT face="Times New Roman" color=#0f0f0f><SPAN style="FONT-SIZE: 12pt"></SPAN></FONT></P><P class=MsoNormal><FONT face=Arial><FONT size=2><STRONG><FONT color=#ff0000 size=3>1/28/09 NEW DATE!<BR>This event was previously scheduled for January 7th but was rescheduled to the 28th due to inclement weather.</FONT></STRONG></FONT></FONT></P><P class=MsoNormal><FONT color=#0f0f0f><FONT face=Arial><FONT size=2><STRONG><FONT size=3>Creative Business Thinking in Tough Economic Times<BR></FONT></STRONG>During this economic downturn\, come and listen to a panel of your chamber peers from a cross section of businesses. Business perspectives\, ideas and lessons learned will be shared with all.<BR></FONT></FONT><STRONG><BR><FONT face=Arial size=2>Sponsored by: </FONT></STRONG><FONT face=Arial size=2>Institution for Savings</FONT></FONT></P><P class=MsoNormal><FONT color=#0f0f0f><FONT face=Arial><FONT size=2><STRONG>Moderator:<BR></STRONG>Doris Roach\, Executive Coach &amp\; Management Consultant</FONT></FONT></FONT></P><P class=MsoNormal><FONT color=#0f0f0f><FONT face=Arial><FONT size=2><STRONG>Panel:<BR></STRONG>Nils Menten\, President\,<STRONG> iMarc<BR></STRONG>Jim Rogers\, Manager/Chef\, <STRONG>Michael's Harborside<BR></STRONG>Dr. Michael Strem\, President\, <STRONG>Strem Chemicals<BR></STRONG>Karen MacCormack\, Senior VP\, Commercial Lending and </FONT></FONT></FONT><FONT color=#0f0f0f><FONT face=Arial><FONT size=2>David Boudreau\, VP\, Commercial lending\, <STRONG>Institution for Savings</STRONG></FONT></FONT></FONT></P><P class=MsoNormal><FONT color=#0f0f0f><FONT face=Arial><FONT size=2><STRONG>Location:<BR></STRONG>Institution for Savings Loan Center<BR>93 State Street\, Newburyport<BR>*please use Prospect Street entrance</FONT></FONT></FONT></P></DIV>
LOCATION:Institution for Savings Lending Center
UID:e.1189.1142
SEQUENCE:3
DTSTAMP:20260422T074404Z
URL:https://business.newburyportchamber.org/events/details/business-development-educational-series-01-28-2009-1142
END:VEVENT

END:VCALENDAR
