BEGIN:VCALENDAR
VERSION:2.0
PRODID:-//ChamberMaster//Event Calendar 2.0//EN
METHOD:PUBLISH
X-PUBLISHED-TTL:P3D
REFRESH-INTERVAL:P3D
CALSCALE:GREGORIAN
BEGIN:VEVENT
DTSTART:20090527T040000Z
DTEND:20090527T040000Z
X-MICROSOFT-CDO-ALLDAYEVENT:FALSE
SUMMARY:Business Development Education Committee Meeting
DESCRIPTION:Business Development Educational Series monthly committee meeting.  Meets at the chamber office last Wednesday of the month.
X-ALT-DESC;FMTTYPE=text/html:<DIV>Business Development Educational Series monthly committee meeting. </DIV><DIV>&nbsp\;</DIV><DIV>Meets at the chamber office last Wednesday of the month.</DIV><DIV>&nbsp\;</DIV>
LOCATION:Newburyport Chamber of Commerce
UID:e.1189.1103
SEQUENCE:3
DTSTAMP:20260422T005945Z
URL:https://business.newburyportchamber.org/events/details/business-development-education-committee-meeting-05-27-2009-1103
END:VEVENT

END:VCALENDAR
