BEGIN:VCALENDAR
VERSION:2.0
PRODID:-//ChamberMaster//Event Calendar 2.0//EN
METHOD:PUBLISH
X-PUBLISHED-TTL:P3D
REFRESH-INTERVAL:P3D
CALSCALE:GREGORIAN
BEGIN:VEVENT
DTSTART:20110311T050000Z
DTEND:20110311T050000Z
X-MICROSOFT-CDO-ALLDAYEVENT:FALSE
SUMMARY:Business Development Education Committee Meeting
DESCRIPTION:Business Development Education monthly committee meeting\n\nMeets at the chamber office the 2nd Friday of every month.
X-ALT-DESC;FMTTYPE=text/html:<DIV><P class=MsoNormal style="MARGIN: 0in 0in 0pt"><SPAN style="COLOR: blue\; FONT-FAMILY: Calibri"><FONT size=4><STRONG>Business Development Education monthly committee meeting</STRONG><BR style="mso-special-character: line-break"><BR style="mso-special-character: line-break"><?xml:namespace prefix = o ns = "urn:schemas-microsoft-com:office:office" /><o:p></o:p></FONT></SPAN></P><P class=MsoNormal style="MARGIN: 0in 0in 0pt"><SPAN style="FONT-FAMILY: Calibri"><FONT size=4>Meets at the chamber office the 2<SUP>nd</SUP> Friday of every month.</FONT></SPAN></P></DIV>
LOCATION:Newburyport Chamber of Commerce
UID:e.1189.1643
SEQUENCE:3
DTSTAMP:20260420T073258Z
URL:https://business.newburyportchamber.org/events/details/business-development-education-committee-meeting-03-11-2011-1643
END:VEVENT

END:VCALENDAR
