BEGIN:VCALENDAR
VERSION:2.0
PRODID:-//ChamberMaster//Event Calendar 2.0//EN
METHOD:PUBLISH
X-PUBLISHED-TTL:P3D
REFRESH-INTERVAL:P3D
CALSCALE:GREGORIAN
BEGIN:VEVENT
DTSTART:20081126T050000Z
DTEND:20081126T050000Z
X-MICROSOFT-CDO-ALLDAYEVENT:FALSE
SUMMARY:Business Development Education Committee
DESCRIPTION:Business Development Education monthly committee meeting.Plans and coordinates the monthly Educational Series. Meets at the chamber office last Wednesday of the month.
X-ALT-DESC;FMTTYPE=text/html:<DIV>Business Development Education monthly committee meeting.</DIV><DIV>Plans and coordinates the monthly Educational Series.</DIV><DIV>&nbsp\;</DIV><DIV>Meets at the chamber office last Wednesday of the month.</DIV><DIV>&nbsp\;</DIV>
LOCATION:Newburyport Chamber of Commerce
UID:e.1189.1044
SEQUENCE:3
DTSTAMP:20260422T111836Z
URL:https://business.newburyportchamber.org/events/details/business-development-education-committee-11-26-2008-1044
END:VEVENT

END:VCALENDAR
