BEGIN:VCALENDAR
VERSION:2.0
PRODID:-//ChamberMaster//Event Calendar 2.0//EN
METHOD:PUBLISH
X-PUBLISHED-TTL:P3D
REFRESH-INTERVAL:P3D
CALSCALE:GREGORIAN
BEGIN:VEVENT
DTSTART:20091216T050000Z
DTEND:20091216T050000Z
X-MICROSOFT-CDO-ALLDAYEVENT:FALSE
SUMMARY:Business Development Committee Meeting
DESCRIPTION:NEW DAY Business Development monthly committee meeting.Please RSVP to Patty St. John at pstjohn@newburyportchamber.org
X-ALT-DESC;FMTTYPE=text/html:<DIV><FONT color=#ff0000><STRONG>NEW DAY</STRONG></FONT></DIV><DIV>&nbsp\;</DIV><DIV>Business Development monthly committee meeting.</DIV><DIV>Please RSVP to Patty St. John at <A href="mailto:pstjohn@newburyportchamber.org">pstjohn@newburyportchamber.org</A></DIV><DIV>&nbsp\;</DIV><DIV>&nbsp\;</DIV><DIV>&nbsp\;</DIV>
LOCATION:Newburyport Chamber of Commerce
UID:e.1189.1364
SEQUENCE:3
DTSTAMP:20260421T132020Z
URL:https://business.newburyportchamber.org/events/details/business-development-committee-meeting-12-16-2009-1364
END:VEVENT

END:VCALENDAR
