BEGIN:VCALENDAR
VERSION:2.0
PRODID:-//ChamberMaster//Event Calendar 2.0//EN
METHOD:PUBLISH
X-PUBLISHED-TTL:P3D
REFRESH-INTERVAL:P3D
CALSCALE:GREGORIAN
BEGIN:VEVENT
DTSTART:20080430T040000Z
DTEND:20080430T040000Z
X-MICROSOFT-CDO-ALLDAYEVENT:FALSE
SUMMARY:Business Development Committee Meeting
DESCRIPTION:Business Development monthly committee meeting.Meets at the chamber office last Wednesday of the month.
X-ALT-DESC;FMTTYPE=text/html:<DIV>Business Development monthly committee meeting.</DIV><DIV>Meets at the chamber office last Wednesday of the month.</DIV><DIV>&nbsp\;</DIV>
LOCATION:Newburyport Chamber of Commerce
UID:e.1189.868
SEQUENCE:3
DTSTAMP:20260424T102010Z
URL:https://business.newburyportchamber.org/events/details/business-development-committee-meeting-04-30-2008-868
END:VEVENT

END:VCALENDAR
