BEGIN:VCALENDAR
VERSION:2.0
PRODID:-//ChamberMaster//Event Calendar 2.0//EN
METHOD:PUBLISH
X-PUBLISHED-TTL:P3D
REFRESH-INTERVAL:P3D
CALSCALE:GREGORIAN
BEGIN:VEVENT
DTSTART:20080902T040000Z
DTEND:20080902T040000Z
X-MICROSOFT-CDO-ALLDAYEVENT:FALSE
SUMMARY:Business Circle Committee Meeting - September 2008
DESCRIPTION:Monthly meeting of the businesses located at the Rte. 1 Traffic Circle.Last meeting before the Fall Harvest Mixer on 9/17. RSVP to >pstjohn@newburyportchamber.org
X-ALT-DESC;FMTTYPE=text/html:<DIV>Monthly meeting of the businesses located at the Rte. 1 Traffic Circle.</DIV><DIV>Last meeting before the Fall Harvest Mixer on 9/17.</DIV><DIV>&nbsp\;</DIV><DIV>RSVP to >pstjohn@newburyportchamber.org</A></A></DIV>
LOCATION:Carry Out Cafe
UID:e.1189.1040
SEQUENCE:3
DTSTAMP:20260422T144524Z
URL:https://business.newburyportchamber.org/events/details/business-circle-committee-meeting-september-2008-09-02-2008-1040
END:VEVENT

END:VCALENDAR
