BEGIN:VCALENDAR
VERSION:2.0
PRODID:-//ChamberMaster//Event Calendar 2.0//EN
METHOD:PUBLISH
X-PUBLISHED-TTL:P3D
REFRESH-INTERVAL:P3D
CALSCALE:GREGORIAN
BEGIN:VEVENT
DTSTART:20090203T050000Z
DTEND:20090203T050000Z
X-MICROSOFT-CDO-ALLDAYEVENT:FALSE
SUMMARY:Business Circle Committee Meeting - February 2009
DESCRIPTION:Meeting of the businesses located at the Rte. 1 Traffic Circle. RSVP to >pstjohn@newburyportchamber.org
X-ALT-DESC;FMTTYPE=text/html:<DIV>Meeting of the businesses located at the Rte. 1 Traffic Circle.</DIV><DIV>&nbsp\;</DIV><DIV>RSVP to >pstjohn@newburyportchamber.org</A></A></DIV>
LOCATION:Carry Out Cafe
UID:e.1189.1161
SEQUENCE:3
DTSTAMP:20260422T075000Z
URL:https://business.newburyportchamber.org/events/details/business-circle-committee-meeting-february-2009-02-03-2009-1161
END:VEVENT

END:VCALENDAR
