BEGIN:VCALENDAR
VERSION:2.0
PRODID:-//ChamberMaster//Event Calendar 2.0//EN
METHOD:PUBLISH
X-PUBLISHED-TTL:P3D
REFRESH-INTERVAL:P3D
CALSCALE:GREGORIAN
BEGIN:VEVENT
DTSTART:20110804T200000Z
DTEND:20110804T230000Z
X-MICROSOFT-CDO-ALLDAYEVENT:FALSE
SUMMARY:Burger Burn on Bed Race Day
DESCRIPTION:Old South Church will host a Burger Burn during the Yankee Homecoming Bed Race on August 4th\, from 4pm to the end of the race.  The Race runs past the front steps of the church\, so come down to 29 Federal Street and fuel up. Burgers\, Dogs\, and Cold Drinks will be on hand to feed the hungry bellies of bed racers and race fans alike. Proceeds from the Burger Burn will help fuel our upcoming Capital Campaign for Historic Restoration.  For further information\, contact Christine Geiger at 978 457 2344 or the church office at 978 465 9666.
X-ALT-DESC;FMTTYPE=text/html:Old South Church will host a Burger Burn during the Yankee Homecoming Bed Race on August 4th\, from 4pm to the end of the race.&nbsp\; The Race runs past the front steps of the church\, so come down to 29 Federal Street and fuel up. Burgers\, Dogs\, and Cold Drinks will be on hand to feed the hungry bellies of bed racers and race fans alike. Proceeds from the Burger Burn will help fuel our upcoming Capital Campaign for Historic Restoration.&nbsp\; For further information\, contact Christine Geiger at 978 457 2344 or the church office at 978 465 9666.<br />\n<br />\n
LOCATION:Old South Church 29 Federal Street Newburyport 978-465-9666
UID:e.1189.2010
SEQUENCE:3
DTSTAMP:20260419T224113Z
URL:https://business.newburyportchamber.org/events/details/burger-burn-on-bed-race-day-08-04-2011-2010
END:VEVENT

END:VCALENDAR
