BEGIN:VCALENDAR
VERSION:2.0
PRODID:-//ChamberMaster//Event Calendar 2.0//EN
METHOD:PUBLISH
X-PUBLISHED-TTL:P3D
REFRESH-INTERVAL:P3D
CALSCALE:GREGORIAN
BEGIN:VEVENT
DTSTART:20110715T200000Z
DTEND:20110716T000000Z
X-MICROSOFT-CDO-ALLDAYEVENT:FALSE
SUMMARY:Buffett Beach Blast and Talgating!
DESCRIPTION:Attention all Parrot Heads! Buffett Beach Blast! Taligating begins at 4\, concert to follow at 8:00PM at Bluce Ocean Music Hall. Cover Band: Changes in Latitudes. Tickets available at blueoceanhall.com
X-ALT-DESC;FMTTYPE=text/html:Attention all Parrot Heads! Buffett Beach Blast! Taligating begins at 4\, concert to follow at 8:00PM at Bluce Ocean Music Hall. Cover Band: Changes in Latitudes. Tickets available at blueoceanhall.com
LOCATION:Blue Ocean Music Hall Salisbury\, MA
UID:e.1189.1976
SEQUENCE:3
DTSTAMP:20260420T015606Z
URL:https://business.newburyportchamber.org/events/details/buffett-beach-blast-and-talgating-07-15-2011-1976
END:VEVENT

END:VCALENDAR
