BEGIN:VCALENDAR
VERSION:2.0
PRODID:-//ChamberMaster//Event Calendar 2.0//EN
METHOD:PUBLISH
X-PUBLISHED-TTL:P3D
REFRESH-INTERVAL:P3D
CALSCALE:GREGORIAN
BEGIN:VEVENT
DTSTART:20111116T163000Z
DTEND:20111116T190000Z
X-MICROSOFT-CDO-ALLDAYEVENT:FALSE
SUMMARY:Breaking the Glass Ceiling Luncheon and Awards for Girls Inc. of the Seacoast Area
DESCRIPTION:Please join us for the Breaking the Glass Ceiling Luncheon and Awards to benefit Girls Inc. of the Seacoast Area\, a program of the Jeanne Geiger Crisis Center\, on Wednesday\, November 16th\, at the Blue Ocean Music Hall\, Salisbury\, Ma. \n\n\n\nContact Mimi Reeves at mreeves@jeannegeigercrisiscenter.org or 978.465.0999 for tickets and information
X-ALT-DESC;FMTTYPE=text/html:Please join us for the Breaking the Glass Ceiling Luncheon and Awards to benefit Girls Inc. of the Seacoast Area\, a program of the Jeanne Geiger Crisis Center\, on Wednesday\, November 16th\, at the Blue Ocean Music Hall\, Salisbury\, Ma.&nbsp\;<br />\n<br />\nContact Mimi Reeves at <a href="mailto:mreeves@jeannegeigercrisiscenter.org">mreeves@jeannegeigercrisiscenter.org</a>&nbsp\;or 978.465.0999 for tickets and information
LOCATION:Blue Ocean Music Hall 4 Ocean Front North Salisbury\, Ma.
UID:e.1189.2091
SEQUENCE:3
DTSTAMP:20260419T174828Z
URL:https://business.newburyportchamber.org/events/details/breaking-the-glass-ceiling-luncheon-and-awards-for-girls-inc-of-the-seacoast-area-11-16-2011-2091
END:VEVENT

END:VCALENDAR
