BEGIN:VCALENDAR
VERSION:2.0
PRODID:-//ChamberMaster//Event Calendar 2.0//EN
METHOD:PUBLISH
X-PUBLISHED-TTL:P3D
REFRESH-INTERVAL:P3D
CALSCALE:GREGORIAN
BEGIN:VEVENT
DTSTART:20110407T040000Z
DTEND:20110407T040000Z
X-MICROSOFT-CDO-ALLDAYEVENT:FALSE
SUMMARY:Breakfast Speaker Series - Will Social Security Be Around When You’re Ready to Retire
DESCRIPTION:Join us for the April Breakfast Speaker SeriesStephen Richardson\,\nNew England Deputy Regional Communications Director\, U. S. Social Security AdministrationSocial Security will not — and was never designed to — provide all of the income we will need to live comfortably during retirement. But will it provide any?Steve Richardson will provide an update on the health of the Social Security program as well as offer insights on when to file\, how the benefits are calculated\, working while retired\, taxation of benefits\, survivor\, spousal and Medicare benefits\, and more. A must-attend breakfast for anyone counting on Social Security benefits to supplement retirement.Reservations Required. Reservations not cancelled 24 hours prior to event will be charged.Season Ticket Holders:\nTo register\, email Terry Thompson.
X-ALT-DESC;FMTTYPE=text/html:<SPAN style="FONT-FAMILY: 'Century Gothic'"><SPAN style="FONT-SIZE: small"><FONT size=2><P><SPAN style="FONT-FAMILY: 'Century Gothic'\; FONT-SIZE: 10pt">Join us for the April Breakfast Speaker Series</SPAN></P><P><SPAN><FONT size=2 face=Calibri><SPAN style="FONT-SIZE: 11pt"><SPAN style="FONT-FAMILY: Calibri\; FONT-SIZE: 11pt"><STRONG>Stephen Richardson\,<BR></STRONG></SPAN><?xml:namespace prefix = st1 ns = "urn:schemas-microsoft-com:office:smarttags" /><st1:place><SPAN style="FONT-FAMILY: Calibri\; FONT-SIZE: 11pt">New England</SPAN></st1:place><SPAN style="FONT-FAMILY: Calibri\; FONT-SIZE: 11pt"> Deputy Regional Communications Director\, </SPAN><st1:country-region><st1:place><SPAN style="FONT-FAMILY: Calibri\; FONT-SIZE: 11pt">U. S.</SPAN></st1:place></st1:country-region><SPAN style="FONT-FAMILY: Calibri\; FONT-SIZE: 11pt"> Social Security Administration</SPAN></SPAN></FONT></SPAN></P><P><SPAN><FONT size=2 face=Calibri><SPAN style="FONT-SIZE: 11pt"><SPAN style="FONT-FAMILY: Calibri\; FONT-SIZE: 11pt"></SPAN><SPAN style="FONT-FAMILY: Calibri\; FONT-SIZE: 11pt">Social Security will not — and was never designed to — provide all of the income we will need to live comfortably during retirement. But will it provide any?</SPAN></SPAN></FONT></SPAN></P><P><SPAN><FONT size=2 face=Calibri><SPAN style="FONT-SIZE: 11pt"><SPAN style="FONT-FAMILY: Calibri\; FONT-SIZE: 11pt"></SPAN><SPAN style="FONT-FAMILY: Calibri\; FONT-SIZE: 11pt\; mso-ansi-language: EN" lang=EN>Steve Richardson will provide an update on the health of the Social Security program as well as offer insights on </SPAN><SPAN style="FONT-FAMILY: Calibri\; FONT-SIZE: 11pt">when to file\, how the benefits are calculated\, working while retired\, taxation of benefits\, survivor\, spousal and Medicare benefits\, and more. A must-attend breakfast for anyone counting on Social Security benefits to supplement retirement.<?xml:namespace prefix = o ns = "urn:schemas-microsoft-com:office:office" /><o:p></o:p></SPAN></P><P></SPAN></FONT></SPAN><SPAN><FONT size=2 face=Calibri><SPAN style="FONT-SIZE: 11pt"></SPAN></FONT></SPAN><EM><SPAN style="FONT-FAMILY: 'Century Gothic'\; FONT-SIZE: 10pt">Reservations Required. Reservations not cancelled 24 hours prior to event will be charged.</SPAN></EM><SPAN style="FONT-FAMILY: 'Century Gothic'\; FONT-SIZE: 10pt"><o:p></o:p></SPAN></P><P style="MARGIN: 0in 0in 0pt" class=MsoNormal><SPAN style="FONT-FAMILY: 'Century Gothic'\; FONT-SIZE: 10pt"><o:p></o:p></SPAN></P><P>Season Ticket Holders:<BR>To register\, email </FONT></SPAN><A style="COLOR: blue\; TEXT-DECORATION: underline" title="" dataFld=0:0 href="mailto:tthompson@newburyportchamber.org" target=_self><SPAN style="FONT-SIZE: small"><FONT size=2>Terry Thompson</FONT></SPAN></A><SPAN style="FONT-SIZE: small"><FONT size=2>.</FONT></SPAN></SPAN></P>
LOCATION:The Phoenix Room
UID:e.1189.1808
SEQUENCE:3
DTSTAMP:20260420T053317Z
URL:https://business.newburyportchamber.org/events/details/breakfast-speaker-series-will-social-security-be-around-when-you-re-ready-to-retire-04-07-2011-1808
END:VEVENT

END:VCALENDAR
