BEGIN:VCALENDAR
VERSION:2.0
PRODID:-//ChamberMaster//Event Calendar 2.0//EN
METHOD:PUBLISH
X-PUBLISHED-TTL:P3D
REFRESH-INTERVAL:P3D
CALSCALE:GREGORIAN
BEGIN:VEVENT
DTSTART:20101216T050000Z
DTEND:20101216T050000Z
X-MICROSOFT-CDO-ALLDAYEVENT:FALSE
SUMMARY:Breakfast Speaker Series
DESCRIPTION:Please join us for the December Breakfast Speaker Series!\n\nGuest Speaker: Dan Forte\, President\, Massachusetts Bankers Association\nTopic: Financial Services Industry Trends\, Reform & the Effect on Massachusetts BanksReservations Required. Reservations not cancelled 24 hours prior to event will be charged.\n\nSeason Ticket Holders:\nTo register\, email Pam Marrese.
X-ALT-DESC;FMTTYPE=text/html:<P><SPAN style="FONT-FAMILY: 'Century Gothic'"><SPAN style="FONT-SIZE: small"><FONT size=2>Please join us&nbsp\;for the December Breakfast Speaker Series!<BR><BR><STRONG>Guest Speaker:</STRONG> Dan Forte\, President\, <A style="COLOR: black\; TEXT-DECORATION: underline" title="" dataFld=0:0 href="http://www.massbankers.org/" target=_NewWindow>Massachusetts Bankers Association</A><BR><STRONG>Topic:</STRONG> Financial Services Industry Trends\, Reform &amp\; the Effect on Massachusetts Banks</FONT></SPAN></SPAN></P><P><SPAN style="FONT-FAMILY: 'Century Gothic'"><SPAN style="FONT-SIZE: small"><FONT size=2><EM>Reservations&nbsp\;Required. Reservations not cancelled 24 hours prior to event will be charged.</EM><BR><BR>Season Ticket Holders:<BR>To register\, email </FONT></SPAN><A href="mailto:pmarrese@newburyportchamber.org"><SPAN style="FONT-SIZE: small"><FONT size=2>Pam Marrese</FONT></SPAN></A><SPAN style="FONT-SIZE: small"><FONT size=2>.</FONT></SPAN></SPAN></P>
LOCATION:The Phoenix Room
UID:e.1189.1410
SEQUENCE:3
DTSTAMP:20260420T124033Z
URL:https://business.newburyportchamber.org/events/details/breakfast-speaker-series-12-16-2010-1410
END:VEVENT

END:VCALENDAR
