BEGIN:VCALENDAR
VERSION:2.0
PRODID:-//ChamberMaster//Event Calendar 2.0//EN
METHOD:PUBLISH
X-PUBLISHED-TTL:P3D
REFRESH-INTERVAL:P3D
CALSCALE:GREGORIAN
BEGIN:VEVENT
DTSTART:20101118T050000Z
DTEND:20101118T050000Z
X-MICROSOFT-CDO-ALLDAYEVENT:FALSE
SUMMARY:Breakfast Speaker Series
DESCRIPTION:**Please note: updated date & guest speaker!**\n\nMarketing Strategies Using Social Media\nSimplifying Social Media to Grow Your Business and Make More Money\n• Introduction to social media tools available\n• A better understanding of how these tools work\n• Identify which tools are right for you!\n\nJoin us as we host guest speaker and social media expert\, Tammi A. Jacobsen from the Massachusetts Small Business Development Center Network.\n\nReservations Required. Reservations not cancelled 24 hours prior to event will be charged.\n\nSeason Ticket Holders:\nTo register\, email Pam Marrese.
X-ALT-DESC;FMTTYPE=text/html:<SPAN style="FONT-FAMILY: 'Century Gothic'"><SPAN style="FONT-SIZE: small"><P><SPAN style="FONT-FAMILY: 'Century Gothic'"><SPAN style="FONT-SIZE: small"><FONT face=Arial><FONT size=2><FONT color=#ff0000>**Please note: updated date &amp\; guest speaker!**<BR></FONT><BR></FONT></FONT><FONT color=#000000><SPAN style="COLOR: #000080\; FONT-SIZE: small"><STRONG><FONT color=#000000 size=2 face=Arial>Marketing Strategies Using Social Media</FONT><EM><BR></EM></STRONG><FONT color=#000000><FONT face=Arial><FONT size=2><EM>Simplifying Social Media to Grow Your Business and Make More Money<BR></EM>• Introduction to social media tools available<BR><SPAN style="COLOR: #000080"><FONT style="FONT-FAMILY: Calibri">• </FONT></SPAN>A better understanding of how these tools work<BR><SPAN style="COLOR: #000080"><FONT style="FONT-FAMILY: Calibri">• </FONT></SPAN>Identify which tools are right for you!</FONT></FONT></FONT></SPAN><BR><BR><FONT size=2 face=Arial>Join us as&nbsp\;we host&nbsp\;guest speaker and&nbsp\;social media expert\,&nbsp\;Tammi A. Jacobsen from the </FONT><A href="www.msbdc.org/semass"><FONT color=#000000 size=2 face=Arial>Massachusetts Small Busines</FONT></A><FONT color=#000000><A style="COLOR: black\; TEXT-DECORATION: underline" title="" dataFld=0:0 href="http://www.msbdc.org/semass" target=_NewWindow><FONT color=#000000 size=2 face=Arial>s Development Center Network</FONT></A><FONT face=Arial><FONT size=2><FONT color=#000000>.</FONT><BR><BR></FONT></FONT></FONT></FONT></SPAN></SPAN><SPAN style="FONT-FAMILY: 'Century Gothic'"><SPAN style="FONT-SIZE: small"><FONT face=Arial><FONT size=2><EM>Reservations&nbsp\;Required. Reservations not cancelled 24 hours prior to event will be charged.</EM><BR><BR>Season Ticket Holders:<BR>To register\, email </FONT></FONT></SPAN><A style="COLOR: black\; TEXT-DECORATION: underline" title="" dataFld=0:0 href="mailto:pmarrese@newburyportchamber.org" target=_NewWindow><SPAN style="FONT-SIZE: small"><FONT size=2 face=Arial>Pam Marrese</FONT></SPAN></A><SPAN style="FONT-SIZE: small"><FONT size=2 face=Arial>.</FONT></SPAN></SPAN></P></SPAN></SPAN>
LOCATION:Mission Oak Grill
UID:e.1189.1409
SEQUENCE:3
DTSTAMP:20260420T141948Z
URL:https://business.newburyportchamber.org/events/details/breakfast-speaker-series-11-18-2010-1409
END:VEVENT

END:VCALENDAR
