BEGIN:VCALENDAR
VERSION:2.0
PRODID:-//ChamberMaster//Event Calendar 2.0//EN
METHOD:PUBLISH
X-PUBLISHED-TTL:P3D
REFRESH-INTERVAL:P3D
CALSCALE:GREGORIAN
BEGIN:VEVENT
DTSTART:20101021T040000Z
DTEND:20101021T040000Z
X-MICROSOFT-CDO-ALLDAYEVENT:FALSE
SUMMARY:Breakfast Speaker Series
DESCRIPTION:**Please note new date & location!**\n\nHealthcare Reform Has Passed. Does that put us all in the breakdown lane?\n\nJoin us for an informative panel on health care reform and how it will affect us as at the local and statewide level. Panelists will be David Morales\, Commissioner of Health Care Finance and Policy\, Representative Harriett Stanley\, House Chair of the Health Care Financing Committee and George Ellison\, Chairman of the Board of Anna Jaques Hospital. Reservations Required. Reservations not cancelled 24 hours prior to event will be charged.\n\nSeason Ticket Holders:\nTo register\, email Pam Marrese.
X-ALT-DESC;FMTTYPE=text/html:<P><SPAN style="FONT-FAMILY: 'Century Gothic'"><SPAN style="FONT-SIZE: small"><FONT size=2><FONT color=#ff0000>**Please note new date &amp\; location!**<BR></FONT><BR><EM>Healthcare Reform Has Passed. Does that put us all in the breakdown lane?<BR><BR></EM></FONT></SPAN></SPAN><SPAN style="FONT-FAMILY: 'Century Gothic'"><SPAN style="FONT-SIZE: small"><FONT size=2>Join us for an informative panel on health care reform and how it will affect us as at the local and statewide level<SPAN style="COLOR: blue">. </SPAN>Panelists will be David Morales\, Commissioner of Health Care Finance and Policy\, Representative Harriett Stanley\, House Chair of the Health Care Financing Committee and George Ellison\, Chairman of the Board of Anna Jaques Hospital. </P></FONT></SPAN></SPAN><P><SPAN style="FONT-FAMILY: 'Century Gothic'"><SPAN style="FONT-SIZE: small"><FONT size=2><EM>Reservations&nbsp\;Required. Reservations not cancelled 24 hours prior to event will be charged.</EM><BR><BR>Season Ticket Holders:<BR>To register\, email </FONT></SPAN><A href="mailto:pmarrese@newburyportchamber.org"><SPAN style="FONT-SIZE: small"><FONT size=2>Pam Marrese</FONT></SPAN></A><SPAN style="FONT-SIZE: small"><FONT size=2>.</FONT></SPAN></SPAN></P>
LOCATION:Michael's Harborside
UID:e.1189.1408
SEQUENCE:3
DTSTAMP:20260420T174221Z
URL:https://business.newburyportchamber.org/events/details/breakfast-speaker-series-10-21-2010-1408
END:VEVENT

END:VCALENDAR
