BEGIN:VCALENDAR
VERSION:2.0
PRODID:-//ChamberMaster//Event Calendar 2.0//EN
METHOD:PUBLISH
X-PUBLISHED-TTL:P3D
REFRESH-INTERVAL:P3D
CALSCALE:GREGORIAN
BEGIN:VEVENT
DTSTART:20100909T040000Z
DTEND:20100909T040000Z
X-MICROSOFT-CDO-ALLDAYEVENT:FALSE
SUMMARY:Breakfast Speaker Series
DESCRIPTION:Please join us for the September Breakfast Speaker Series!\n\nThis is the fourth time Provident Advisory Group has had the opportunity to sponsor Jeffrey Knight CFA\, head of Global Asset Allocation at Putnam Investments and son of Newburyport.  Jeff directly  manages billions in client assets and recently has lead Putnam's introduction and management of absolute-return funds.\n\nSeason Ticket Holders:\nTo register\, email Pam Marrese.\n\nContinental Breakfast included with admission price.\n\nPlease note: Reservations are required. Reservations not cancelled 24 hours prior to event will be charged.
X-ALT-DESC;FMTTYPE=text/html:<P><SPAN style="FONT-FAMILY: 'Century Gothic'"><SPAN style="FONT-SIZE: small"><FONT size=2>Please join us&nbsp\;for the&nbsp\;September Breakfast Speaker Series!<BR><BR>This is the fourth time Provident Advisory Group has had the opportunity to sponsor Jeffrey Knight CFA\, head of Global Asset <FONT color=#000000>Allocation at </FONT><A style="COLOR: blue\; TEXT-DECORATION: underline" title="" dataFld=0:0 href="http://www.putnam.com/" target=_NewWindow><FONT color=#000000 face=Arial>Putnam Investments</FONT></A><FONT color=#000000>&nbsp\;and son</FONT> of Newburyport.&nbsp\; Jeff directly&nbsp\; manages&nbsp\;billions in client assets and recently&nbsp\;has lead Putnam's introduction and management of absolute-return funds.<BR><BR></FONT></SPAN></SPAN><SPAN style="FONT-FAMILY: 'Century Gothic'"><SPAN style="FONT-SIZE: small"><FONT size=2>Season Ticket Holders:<BR>To register\, <FONT color=#000000>email </FONT></FONT></SPAN><A href="mailto:pmarrese@newburyportchamber.org"><SPAN style="FONT-SIZE: small"><FONT color=#000000 size=2>Pam Marrese</FONT></SPAN></A><SPAN style="FONT-SIZE: small"><FONT size=2><FONT color=#000000>.<BR><BR><EM>Continental Breakfast included&nbsp\;with admission price.<BR><BR></EM><SPAN style="FONT-FAMILY: 'Century Gothic'"><SPAN style="FONT-SIZE: small"><FONT size=2><FONT color=#ff0000><STRONG>Please note:</STRONG> <EM>Reservations&nbsp\;are required. Reservations not cancelled 24 hours prior to event will be charged.</EM></FONT></FONT></SPAN></SPAN></FONT></FONT></SPAN></SPAN></P>
LOCATION:Mission Oak Grill
UID:e.1189.1407
SEQUENCE:3
DTSTAMP:20260420T174948Z
URL:https://business.newburyportchamber.org/events/details/breakfast-speaker-series-09-09-2010-1407
END:VEVENT

END:VCALENDAR
