BEGIN:VCALENDAR
VERSION:2.0
PRODID:-//ChamberMaster//Event Calendar 2.0//EN
METHOD:PUBLISH
X-PUBLISHED-TTL:P3D
REFRESH-INTERVAL:P3D
CALSCALE:GREGORIAN
BEGIN:VEVENT
DTSTART:20100603T040000Z
DTEND:20100603T040000Z
X-MICROSOFT-CDO-ALLDAYEVENT:FALSE
SUMMARY:Breakfast Speaker Series
DESCRIPTION:Educating Our Nation's ScientistsWhat You Can Do To Make A Difference Guest Speaker: Irene Porro\, PhDPublic Education and Communications OfficerDirector\, Education and Outreach GroupsMIT Kavli Institute for Astrophysics and Space Research Dr. Porro will share with us the state of the science\, technology\, engineering and math (STEM) workforce in the US and her experience working with businesses and educators to fill the alarming voids in these fields that are so critical to our national competitiveness.\n\nSponsored by Strem Chemicals\, Inc. in support of Newburyport Education Foundation and Newburyport Education/Business Coalition.\n\nSeason Ticket Holders:\nTo register\, email Pam Marrese.\n\nReservations Required. Reservations not cancelled 24 hours prior to event will be charged.
X-ALT-DESC;FMTTYPE=text/html:<SPAN style="FONT-FAMILY: 'Century Gothic'"><SPAN style="FONT-SIZE: small"><FONT size=2><SPAN style="FONT-FAMILY: 'Century Gothic'"><SPAN style="FONT-SIZE: small"><SPAN style="FONT-FAMILY: Calibri\; FONT-SIZE: 10pt"><P style="MARGIN: 0in 0in 0pt" class=MsoNormal><SPAN style="FONT-FAMILY: Calibri\; FONT-SIZE: 11pt"><STRONG><FONT size=3>Educating Our Nation's Scientists<?xml:namespace prefix = o ns = "urn:schemas-microsoft-com:office:office" /><o:p></o:p></FONT></STRONG></SPAN></P><P style="MARGIN: 0in 0in 0pt" class=MsoNormal><I style="mso-bidi-font-style: normal"><SPAN style="FONT-FAMILY: Calibri\; FONT-SIZE: 11pt"><FONT size=3>What You Can Do To Make A Difference<o:p></o:p></FONT></SPAN></I></P><P style="MARGIN: 0in 0in 0pt" class=MsoNormal><SPAN style="FONT-FAMILY: Calibri\; FONT-SIZE: 11pt"><o:p><FONT size=3>&nbsp\;</FONT></o:p></SPAN></P><P style="MARGIN: 0in 0in 0pt" class=MsoNormal><SPAN style="FONT-FAMILY: Calibri\; FONT-SIZE: 11pt"><STRONG><FONT size=3>Guest Speaker: Irene Porro\, PhD<o:p></o:p></FONT></STRONG></SPAN></P><P style="MARGIN: 0in 0in 0pt" class=MsoNormal><SPAN style="FONT-FAMILY: Calibri\; FONT-SIZE: 11pt"><FONT size=3>Public Education and Communications Officer<o:p></o:p></FONT></SPAN></P><P style="MARGIN: 0in 0in 0pt" class=MsoNormal><SPAN style="FONT-FAMILY: Calibri\; FONT-SIZE: 11pt"><FONT size=3>Director\, Education and Outreach Groups<o:p></o:p></FONT></SPAN></P><P style="MARGIN: 0in 0in 0pt" class=MsoNormal><SPAN style="FONT-FAMILY: Calibri\; FONT-SIZE: 11pt"><FONT size=3>MIT Kavli Institute for Astrophysics and Space Research<o:p></o:p></FONT></SPAN></P><P style="MARGIN: 0in 0in 0pt" class=MsoNormal><SPAN style="FONT-FAMILY: Calibri\; FONT-SIZE: 11pt"><o:p><FONT size=3>&nbsp\;</FONT></o:p></SPAN></P><P style="MARGIN: 0in 0in 0pt" class=MsoNormal><FONT size=3><SPAN style="FONT-FAMILY: Calibri\; FONT-SIZE: 11pt">Dr. Porro will share with us the state of the science\, technology\, engineering and math (</SPAN><?xml:namespace prefix = st1 ns = "urn:schemas-microsoft-com:office:smarttags" /><st1:stockticker><SPAN style="FONT-FAMILY: Calibri\; FONT-SIZE: 11pt">STEM</SPAN></st1:stockticker><SPAN style="FONT-FAMILY: Calibri\; FONT-SIZE: 11pt">) workforce in the </SPAN><st1:country-region><st1:place><SPAN style="FONT-FAMILY: Calibri\; FONT-SIZE: 11pt">US</SPAN></st1:place></st1:country-region><SPAN style="FONT-FAMILY: Calibri\; FONT-SIZE: 11pt"> and her experience working with businesses and educators to fill the alarming voids in these fields that are so critical to our national competitiveness.<BR><BR><STRONG>Sponsored by</STRONG> <A style="COLOR: black\; TEXT-DECORATION: underline" title="" dataFld=0:0 href="http://www.strem.com/" target=_NewWindow>Strem Chemicals\, Inc.</A> in support of <A style="COLOR: black\; TEXT-DECORATION: underline" title="" dataFld=0:0 href="http://www.newburyportef.org/" target=_NewWindow>Newburyport Education Foundation</A> and <A style="COLOR: black\; TEXT-DECORATION: underline" title="" dataFld=0:0 href="http://www.thenebc.org/" target=_NewWindow>Newburyport Education/Business Coalition</A>.<BR><BR><STRONG>Season Ticket Holders</STRONG>:<BR>To register\,&nbsp\;email <A style="COLOR: black\; TEXT-DECORATION: underline" title="" dataFld=0:0 href="mailto:pmarrese@newburyportchamber.org" target=_self>Pam Marrese</A>.<BR><BR><FONT color=#ff0000>Reservations Required. Reservations not cancelled 24 hours prior to event will be charged.</FONT></SPAN></FONT></SPAN></SPAN></SPAN></P></FONT></SPAN></SPAN>
LOCATION:Mission Oak Grill
UID:e.1189.1406
SEQUENCE:3
DTSTAMP:20260421T031931Z
URL:https://business.newburyportchamber.org/events/details/breakfast-speaker-series-06-03-2010-1406
END:VEVENT

END:VCALENDAR
