BEGIN:VCALENDAR
VERSION:2.0
PRODID:-//ChamberMaster//Event Calendar 2.0//EN
METHOD:PUBLISH
X-PUBLISHED-TTL:P3D
REFRESH-INTERVAL:P3D
CALSCALE:GREGORIAN
BEGIN:VEVENT
DTSTART:20100506T040000Z
DTEND:20100506T040000Z
X-MICROSOFT-CDO-ALLDAYEVENT:FALSE
SUMMARY:Breakfast Speaker Series
DESCRIPTION:Please join us for a Legislative Update with State Senators Steve Baddour & Bruce Tarr and State Representatives Michael Costello & Harriet Stanley.\n\nReservations Required. Reservations not cancelled 24 hours prior to event will be charged.\n\nSeason Ticket Holders:\nTo register\, email Pam Marrese.\n\nThere have been a few changes to our monthly Breakfast Speaker Series. We are making the switch to a Continental Breakfast and lowering the price of admission. We hope to see you there!
X-ALT-DESC;FMTTYPE=text/html:<SPAN style="FONT-FAMILY: 'Century Gothic'"><SPAN style="FONT-SIZE: small"><FONT size=2><P><SPAN style="FONT-FAMILY: 'Century Gothic'"><SPAN style="FONT-SIZE: small"><FONT size=2>Please join us&nbsp\;for&nbsp\;a Legislative Update with State Senators Steve Baddour &amp\; Bruce Tarr and State Representatives Michael Costello &amp\; Harriet Stanley.<BR><BR></FONT></SPAN></SPAN><SPAN style="FONT-FAMILY: 'Century Gothic'"><SPAN style="FONT-SIZE: small"><FONT size=2><EM>Reservations&nbsp\;Required. Reservations not cancelled 24 hours prior to event will be charged.</EM><BR><BR>Season Ticket Holders:<BR>To register\, email </FONT></SPAN><A href="mailto:pmarrese@newburyportchamber.org"><SPAN style="FONT-SIZE: small"><FONT size=2>Pam Marrese</FONT></SPAN></A><SPAN style="FONT-SIZE: small"><FONT size=2>.<BR><BR><EM><FONT color=#0000ff>There have been a few changes to our monthly Breakfast Speaker Series. We are making the switch to a Continental Breakfast and lowering the price of admission. We hope to see you there!</FONT></EM></FONT></SPAN></SPAN></P></FONT></SPAN></SPAN>
LOCATION:The Phoenix Room
UID:e.1189.1405
SEQUENCE:3
DTSTAMP:20260421T050001Z
URL:https://business.newburyportchamber.org/events/details/breakfast-speaker-series-05-06-2010-1405
END:VEVENT

END:VCALENDAR
